BEGIN:VCALENDAR
VERSION:2.0
PRODID:-//Sezione di Cernusco sul Naviglio - ECPv6.10.3//NONSGML v1.0//EN
CALSCALE:GREGORIAN
METHOD:PUBLISH
X-ORIGINAL-URL:https://organizzazione.cai.it/sez-cernusco-sul-naviglio
X-WR-CALDESC:Eventi per Sezione di Cernusco sul Naviglio
REFRESH-INTERVAL;VALUE=DURATION:PT1H
X-Robots-Tag:noindex
X-PUBLISHED-TTL:PT1H
BEGIN:VTIMEZONE
TZID:Europe/Rome
BEGIN:DAYLIGHT
TZOFFSETFROM:+0100
TZOFFSETTO:+0200
TZNAME:CEST
DTSTART:20260329T010000
END:DAYLIGHT
BEGIN:STANDARD
TZOFFSETFROM:+0200
TZOFFSETTO:+0100
TZNAME:CET
DTSTART:20261025T010000
END:STANDARD
END:VTIMEZONE
BEGIN:VEVENT
DTSTART;TZID=Europe/Rome:20260416T210000
DTEND;TZID=Europe/Rome:20260528T223000
DTSTAMP:20260421T235529
CREATED:20260412T203310Z
LAST-MODIFIED:20260414T140203Z
UID:9022-1776373200-1780007400@organizzazione.cai.it
SUMMARY:3^ Rassegna del Cinema di Montagna
DESCRIPTION:
URL:https://organizzazione.cai.it/sez-cernusco-sul-naviglio/evento/3-rassegna-del-cinema-di-montagna/
LOCATION:CAI sez. Cernusco sul Naviglio\, p.zza Matteotti\, 8\, Cernusco sul Naviglio\, Italy
ATTACH;FMTTYPE=image/webp:https://organizzazione.cai.it/sez-cernusco-sul-naviglio/wp-content/uploads/sites/19/2026/04/xxx-1.webp
END:VEVENT
END:VCALENDAR