BEGIN:VCALENDAR
VERSION:2.0
PRODID:-//Sezione di Reggio Calabria - ECPv6.10.3//NONSGML v1.0//EN
CALSCALE:GREGORIAN
METHOD:PUBLISH
X-WR-CALNAME:Sezione di Reggio Calabria
X-ORIGINAL-URL:https://organizzazione.cai.it/sez-reggio-calabria
X-WR-CALDESC:Eventi per Sezione di Reggio Calabria
REFRESH-INTERVAL;VALUE=DURATION:PT1H
X-Robots-Tag:noindex
X-PUBLISHED-TTL:PT1H
BEGIN:VTIMEZONE
TZID:UTC
BEGIN:STANDARD
TZOFFSETFROM:+0000
TZOFFSETTO:+0000
TZNAME:UTC
DTSTART:20250101T000000
END:STANDARD
END:VTIMEZONE
BEGIN:VEVENT
DTSTART;VALUE=DATE:20251109
DTEND;VALUE=DATE:20251110
DTSTAMP:20260423T031003
CREATED:20251105T114801Z
LAST-MODIFIED:20251105T114801Z
UID:2199-1762646400-1762732799@organizzazione.cai.it
SUMMARY:Escursione | La Via degli Armeni
DESCRIPTION:La Via degli Armeni è un percorso ad anello che parte da Motticella e attraversa borghi antichi\, \nresti bizantini e paesaggi naturali dell’Aspromonte ionico. L’itinerario tocca la Rocca di \nSan Fantino\, la suggestiva Chiesa Armena\, il bosco di Rudìna\, i borghi di Ferruzzano Saccuti e \nBruzzano Vecchio\, per poi chiudersi ad anello tornando a Motticella. Un cammino che unisce natura\,\n storia e spiritualità in scenari di grande fascino.\n\nDettagli ✅\n🎯 Difficoltà: E\n📏 Distanza: 15km\n📈 Dislivello: 540m d+\, 540m d-\n⌚ Durata: 6h ca.\n\nOrganizzatori: Rokko Romeo e Massimo Di Lorenzo.\n\nGiovedì 6 novembre la presentazione in sezione dell'evento (vieni a trovarci in Via Sbarre Superiori 61/c a Reggio Calabria) 🧭\nUlteriori dettagli nella scheda tecnica📑
URL:https://organizzazione.cai.it/sez-reggio-calabria/evento/escursione-la-via-degli-armeni/
ATTACH;FMTTYPE=image/webp:https://organizzazione.cai.it/sez-reggio-calabria/wp-content/uploads/sites/44/2025/11/locandina-cai.webp
END:VEVENT
END:VCALENDAR