BEGIN:VCALENDAR
VERSION:2.0
PRODID:-//Sezione di Reggio Calabria - ECPv6.10.3//NONSGML v1.0//EN
CALSCALE:GREGORIAN
METHOD:PUBLISH
X-WR-CALNAME:Sezione di Reggio Calabria
X-ORIGINAL-URL:https://organizzazione.cai.it/sez-reggio-calabria
X-WR-CALDESC:Eventi per Sezione di Reggio Calabria
REFRESH-INTERVAL;VALUE=DURATION:PT1H
X-Robots-Tag:noindex
X-PUBLISHED-TTL:PT1H
BEGIN:VTIMEZONE
TZID:UTC
BEGIN:STANDARD
TZOFFSETFROM:+0000
TZOFFSETTO:+0000
TZNAME:UTC
DTSTART:20260101T000000
END:STANDARD
END:VTIMEZONE
BEGIN:VEVENT
DTSTART;VALUE=DATE:20260314
DTEND;VALUE=DATE:20260316
DTSTAMP:20260422T014804
CREATED:20251119T115005Z
LAST-MODIFIED:20260303T133135Z
UID:2760-1773446400-1773619199@organizzazione.cai.it
SUMMARY:Coast to Coast - Terme Vigliatore - Taormina | Intersezionale con CAI Messina
DESCRIPTION:Un’attraversata dura e spettacolare da mare a mare\, dalle spiagge tirreniche di Salicà fino al Mar Ionio\, raggiungendo la stazione ferroviaria di Taormina dopo due giorni intensi sulle creste più iconiche dei Peloritani. Un percorso lungo\, panoramico e fisicamente impegnativo\, che tocca Pizzo Russa\, Monte Ritagli di Lecca\, Montagna Grande\, Monte Naturi e Monte Veneretta\, con continui saliscendi e viste aperte su entrambi i mari.\n\n \n\n\nDettagli ✅\n\n\n🎯 Difficoltà: EE\n\n\n📏 Distanza: 27 km (1°Giorno); 28 km (2° Giorno)\n\n\n📈 Dislivelli: 1480m d+\, 690m d- (1°Giorno); +1564m d+\, –2300m d- (2° Giorno)\n\n\n⌚ Durata: 9 h (1°Giorno); 9 h (2° Giorno)\n\n\n \n\n\nAccompagnatori: Angelo La Rosa – Pino Perrone\n\n\n \n\n\nPer ulteriori informazioni e adesioni contattare direttamente per il CAI RC il socio Pino Perrone.\n\n\n \n\n\nDettagli nella scheda tecnica 📑
URL:https://organizzazione.cai.it/sez-reggio-calabria/evento/coast-to-coast-terme-vigliatore-taormina-intersezionale-con-cai-messina/
CATEGORIES:EE
ATTACH;FMTTYPE=image/jpeg:https://organizzazione.cai.it/sez-reggio-calabria/wp-content/uploads/sites/44/2024/06/DefaultFeatureImage_CAI.jpg
END:VEVENT
BEGIN:VEVENT
DTSTART;VALUE=DATE:20260315
DTEND;VALUE=DATE:20260316
DTSTAMP:20260422T014804
CREATED:20251119T115005Z
LAST-MODIFIED:20260312T091004Z
UID:2761-1773532800-1773619199@organizzazione.cai.it
SUMMARY:Anello del Sentiero dello Spirito (con Gruppi Scout)
DESCRIPTION:  \nUn anello che unisce storia\, spiritualità e paesaggio rurale\, partendo dalla chiesetta medievale di Sant’Antonio Abate ad Archi Carmine e risalendo lungo il sentiero 161 fino al Monastero della Visitazione. Un percorso che attraversa crinali panoramici\, caselli forestali e antiche mulattiere\, con splendidi affacci sullo Stretto. Dopo la messa e il pranzo al sacco presso il Monastero\, il rientro avverrà attraverso contrada Papuzzi\, chiudendo l’anello in località Malavenda. \nDettagli ✅\n🎯 Difficoltà: E\n📏 Distanza: 12 km\n📈 Dislivello: 470 m d+\, 470 m d-\n⌚ Durata: 7 ore \nAccompagnatori: Ambrogio Braga – Geanina Cozma – Salvatore Musca \nGiovedì 12 marzo presentazione dell’escursione in sezione (vieni a trovarci in Via Sbarre Superiori 61/c\, Reggio Calabria) 🧭 \nUlteriori dettagli nella scheda tecnica 📑 \n 
URL:https://organizzazione.cai.it/sez-reggio-calabria/evento/sentiero-dello-spirito-161/
CATEGORIES:E
ATTACH;FMTTYPE=image/webp:https://organizzazione.cai.it/sez-reggio-calabria/wp-content/uploads/sites/44/2025/11/locandine-cai-7.webp
END:VEVENT
END:VCALENDAR