BEGIN:VCALENDAR
VERSION:2.0
PRODID:-//Sezione di Reggio Calabria - ECPv6.10.3//NONSGML v1.0//EN
CALSCALE:GREGORIAN
METHOD:PUBLISH
X-ORIGINAL-URL:https://organizzazione.cai.it/sez-reggio-calabria
X-WR-CALDESC:Eventi per Sezione di Reggio Calabria
REFRESH-INTERVAL;VALUE=DURATION:PT1H
X-Robots-Tag:noindex
X-PUBLISHED-TTL:PT1H
BEGIN:VTIMEZONE
TZID:UTC
BEGIN:STANDARD
TZOFFSETFROM:+0000
TZOFFSETTO:+0000
TZNAME:UTC
DTSTART:20260101T000000
END:STANDARD
END:VTIMEZONE
BEGIN:VEVENT
DTSTART;VALUE=DATE:20260321
DTEND;VALUE=DATE:20260322
DTSTAMP:20260422T032839
CREATED:20251119T115137Z
LAST-MODIFIED:20260317T134257Z
UID:2770-1774051200-1774137599@organizzazione.cai.it
SUMMARY:Fossato Jonico - Grotta della Lamia -Trunca
DESCRIPTION:Un itinerario affascinante che dal borgo di Fossato Jonico risale tra uliveti secolari\, antiche chiese bizantine e pinete d’altura fino ai Piani della Lamia\, dove si trova la suggestiva Grotta della Lamia\, un sito naturalistico di grande interesse. Dopo la visita alla grotta\, il percorso prosegue tra discese ripide e tratti esposti\, attraversando l’abitato di Embrisi e terminando a Trunca\, da cui si rientrerà in autobus verso Reggio Calabria. \nDettagli ✅\n🎯 Difficoltà: E (con tratti esposti\, non adatto a chi soffre di vertigini)\n📏 Distanza: 14 km\n📈 Dislivello: 700 m d+\, 700 m d-\n⌚ Durata: 7 ore \nAccompagnatori: Paola Gattuso – Pasquale Lacava \nGiovedì 19 marzo presentazione dell’escursione in sezione (Via Sbarre Superiori 61/c\, Reggio Calabria) 🧭 \nUlteriori dettagli nella scheda tecnica📑 \n 
URL:https://organizzazione.cai.it/sez-reggio-calabria/evento/melito-porto-salvo-piani-della-lamia-trunca/
CATEGORIES:E
ATTACH;FMTTYPE=image/webp:https://organizzazione.cai.it/sez-reggio-calabria/wp-content/uploads/sites/44/2025/11/locandine-cai-8.webp
END:VEVENT
END:VCALENDAR