BEGIN:VCALENDAR
VERSION:2.0
PRODID:-//Sezione di Reggio Calabria - ECPv6.10.3//NONSGML v1.0//EN
CALSCALE:GREGORIAN
METHOD:PUBLISH
X-ORIGINAL-URL:https://organizzazione.cai.it/sez-reggio-calabria
X-WR-CALDESC:Eventi per Sezione di Reggio Calabria
REFRESH-INTERVAL;VALUE=DURATION:PT1H
X-Robots-Tag:noindex
X-PUBLISHED-TTL:PT1H
BEGIN:VTIMEZONE
TZID:UTC
BEGIN:STANDARD
TZOFFSETFROM:+0000
TZOFFSETTO:+0000
TZNAME:UTC
DTSTART:20260101T000000
END:STANDARD
END:VTIMEZONE
BEGIN:VEVENT
DTSTART;VALUE=DATE:20260322
DTEND;VALUE=DATE:20260323
DTSTAMP:20260422T014835
CREATED:20251119T115107Z
LAST-MODIFIED:20251119T130133Z
UID:2763-1774137600-1774223999@organizzazione.cai.it
SUMMARY:Visita guidata Etna con Geologo
DESCRIPTION:Evento da confermare nei giorni precedenti l’uscita. Ulteriori dettagli saranno dati in prossimità dell’evento stesso aggiornando questa descrizione sul sito. Consuetamente le uscite giornaliere del weekend vengono confermate o annullate il martedì precedente l’uscita tramite i nostri canali. Segui tutti gli aggiornamenti del CAI Reggio Calabria su Whatsapp https://chat.whatsapp.com/BhUezT56qj213l2MtwEbtf o sui social come CAI Reggo Calabria su Facebook https://www.facebook.com/caireggiocalabria e CAI Giovani Reggio Calabria su Instagram https://www.instagram.com/caigiovanireggiocalabria/
URL:https://organizzazione.cai.it/sez-reggio-calabria/evento/visita-guidata-etna-con-geologo/
CATEGORIES:E
ATTACH;FMTTYPE=image/jpeg:https://organizzazione.cai.it/sez-reggio-calabria/wp-content/uploads/sites/44/2024/06/DefaultFeatureImage_CAI.jpg
END:VEVENT
BEGIN:VEVENT
DTSTART;VALUE=DATE:20260322
DTEND;VALUE=DATE:20260323
DTSTAMP:20260422T014835
CREATED:20251119T115107Z
LAST-MODIFIED:20260317T134223Z
UID:2764-1774137600-1774223999@organizzazione.cai.it
SUMMARY:Festa di primavera - Cascate Chalonero
DESCRIPTION:Una giornata dedicata alla primavera che rinasce\, camminando lungo la valle dell’Amendolea fino alla spettacolare Cascata del Chalonero (Roccaforte del Greco). Un percorso semplice e adatto a tutti\, immerso nei colori e nei suoni della stagione che si risveglia. Dopo l’escursione condivideremo il pranzo e le emozioni della giornata nell’area pic‑nic di Ghorìo di Roccaforte. \nDettagli ✅\n🎯 Difficoltà: T\n📏 Distanza: 8 km\n📈 Dislivello: 72 m d+\, 72 m d-\n⌚ Durata: 6 ore \nAccompagnatori: Pietro Garofalo – Giuditta Polito – Marino Mollo \nGiovedì 19 marzo presentazione dell’escursione in sezione (vieni a trovarci in Via Sbarre Superiori 61/c\, Reggio Calabria) 🧭 \nUlteriori dettagli nella scheda tecnica📑
URL:https://organizzazione.cai.it/sez-reggio-calabria/evento/festa-di-primavera-cascate-calonero/
CATEGORIES:T
ATTACH;FMTTYPE=image/jpeg:https://organizzazione.cai.it/sez-reggio-calabria/wp-content/uploads/sites/44/2024/06/DefaultFeatureImage_CAI.jpg
END:VEVENT
END:VCALENDAR