BEGIN:VCALENDAR
VERSION:2.0
PRODID:-//Sezione di Reggio Calabria - ECPv6.10.3//NONSGML v1.0//EN
CALSCALE:GREGORIAN
METHOD:PUBLISH
X-ORIGINAL-URL:https://organizzazione.cai.it/sez-reggio-calabria
X-WR-CALDESC:Eventi per Sezione di Reggio Calabria
REFRESH-INTERVAL;VALUE=DURATION:PT1H
X-Robots-Tag:noindex
X-PUBLISHED-TTL:PT1H
BEGIN:VTIMEZONE
TZID:UTC
BEGIN:STANDARD
TZOFFSETFROM:+0000
TZOFFSETTO:+0000
TZNAME:UTC
DTSTART:20260101T000000
END:STANDARD
END:VTIMEZONE
BEGIN:VEVENT
DTSTART;VALUE=DATE:20260427
DTEND;VALUE=DATE:20260504
DTSTAMP:20260422T014823
CREATED:20251119T115236Z
LAST-MODIFIED:20251119T130358Z
UID:2777-1777248000-1777852799@organizzazione.cai.it
SUMMARY:Alpi Apuane
DESCRIPTION:Evento da confermare nei giorni precedenti l’uscita. Ulteriori dettagli saranno dati in prossimità dell’evento stesso aggiornando questa descrizione sul sito. Consuetamente le uscite giornaliere del weekend vengono confermate o annullate il martedì precedente l’uscita tramite i nostri canali. Segui tutti gli aggiornamenti del CAI Reggio Calabria su Whatsapp https://chat.whatsapp.com/BhUezT56qj213l2MtwEbtf o sui social come CAI Reggo Calabria su Facebook https://www.facebook.com/caireggiocalabria e CAI Giovani Reggio Calabria su Instagram https://www.instagram.com/caigiovanireggiocalabria/
URL:https://organizzazione.cai.it/sez-reggio-calabria/evento/alpi-apuane/
CATEGORIES:E
ATTACH;FMTTYPE=image/jpeg:https://organizzazione.cai.it/sez-reggio-calabria/wp-content/uploads/sites/44/2024/06/DefaultFeatureImage_CAI.jpg
END:VEVENT
BEGIN:VEVENT
DTSTART;VALUE=DATE:20260501
DTEND;VALUE=DATE:20260503
DTSTAMP:20260422T014823
CREATED:20251119T115236Z
LAST-MODIFIED:20260421T133826Z
UID:2778-1777593600-1777766399@organizzazione.cai.it
SUMMARY:Sui Sentieri del Mito
DESCRIPTION:Si apre la raccolta delle manifestazioni di interesse per questa traversata intensa e selvaggia tra Bagnara e Scilla.\nUn percorso EE\, crudo e avventuroso\, consigliato ad escursionisti esperti e ben allenati. \nIl programma prevede due giornate impegnative tra sentieri storici\, ascese panoramiche e tratti selvaggi:\n• 1° giorno: Bagnara – Rifugio Monte Judice\n• 2° giorno: Rifugio Monte Judice – Scilla\n(Pernottamento in mezza pensione al Rifugio Monte Judice) \n⚠️Adesioni entro domenica 26 Aprile ⚠️ \n🗓️ Giovedì 23 aprile alle 21.00 presentazione dell’escursione in sezione (vieni a trovarci in Via Sbarre Superiori 61/c\, Reggio Calabria) 🧭 \nUlteriori dettagli nella scheda tecnica 📑
URL:https://organizzazione.cai.it/sez-reggio-calabria/evento/sui-sentieri-del-mito/
CATEGORIES:EE
ATTACH;FMTTYPE=image/jpeg:https://organizzazione.cai.it/sez-reggio-calabria/wp-content/uploads/sites/44/2024/06/DefaultFeatureImage_CAI.jpg
END:VEVENT
END:VCALENDAR