BEGIN:VCALENDAR
VERSION:2.0
PRODID:-//Sezione di Reggio Calabria - ECPv6.10.3//NONSGML v1.0//EN
CALSCALE:GREGORIAN
METHOD:PUBLISH
X-ORIGINAL-URL:https://organizzazione.cai.it/sez-reggio-calabria
X-WR-CALDESC:Eventi per Sezione di Reggio Calabria
REFRESH-INTERVAL;VALUE=DURATION:PT1H
X-Robots-Tag:noindex
X-PUBLISHED-TTL:PT1H
BEGIN:VTIMEZONE
TZID:UTC
BEGIN:STANDARD
TZOFFSETFROM:+0000
TZOFFSETTO:+0000
TZNAME:UTC
DTSTART:20260101T000000
END:STANDARD
END:VTIMEZONE
BEGIN:VEVENT
DTSTART;TZID=UTC:20260320T163000
DTEND;TZID=UTC:20260320T200000
DTSTAMP:20260422T002353
CREATED:20260305T101857Z
LAST-MODIFIED:20260305T101934Z
UID:4229-1774024200-1774036800@organizzazione.cai.it
SUMMARY:Assemblea ordinaria dei Soci del Club Alpino Italiano – Sezione Aspromonte
DESCRIPTION:Cari Soci\,  \nsiamo lieti di invitarvi all’Assemblea ordinaria dei Soci del Club Alpino Italiano – Sezione Aspromonte\, convocata per venerdì 20 marzo 2026 presso la nostra sede di Via Sbarre superiori 61/C\, a Reggio Calabria.  \nQuesto appuntamento assume un significato particolare: è la prima Assemblea del nostro primo anno di mandato. Un anno intenso\, dedicato a rinnovare lo spirito associativo\, valorizzare il nostro territorio e rafforzare il ruolo della Sezione come punto di riferimento per chi ama la montagna.  \nInsieme a tutto il Direttivo\, abbiamo lavorato con passione per portare avanti i valori che ci uniscono: la conoscenza\, la tutela e la fruizione consapevole dell’ambiente montano e delle terre alte\, con uno sguardo sempre attento all’Aspromonte.  \nDurante l’Assemblea ripercorreremo le attività svolte nel 2025\, approveremo i bilanci e il programma per il 2026\, e procederemo ad alcune importanti nomine statutarie. Ma\, soprattutto\, sarà l’occasione per incontrarci\, confrontarci e costruire insieme il futuro della nostra Sezione.  \nVi aspettiamo numerosi\, perché la forza del CAI è nella partecipazione di tutti i soci. Per ordini del giorno e dettagli clicca qui. \nIl Presidente\nGiandomenico Posillipo\ne il Consiglio Direttivo della Sezione Aspromonte  \n 
URL:https://organizzazione.cai.it/sez-reggio-calabria/evento/assemblea-ordinaria-dei-soci-del-club-alpino-italiano-sezione-aspromonte/
CATEGORIES:Altro
ATTACH;FMTTYPE=image/jpeg:https://organizzazione.cai.it/sez-reggio-calabria/wp-content/uploads/sites/44/2024/06/DefaultFeatureImage_CAI.jpg
END:VEVENT
BEGIN:VEVENT
DTSTART;TZID=UTC:20260124T153000
DTEND;TZID=UTC:20260124T183000
DTSTAMP:20260422T002353
CREATED:20260114T134647Z
LAST-MODIFIED:20260114T134647Z
UID:3768-1769268600-1769279400@organizzazione.cai.it
SUMMARY:Presentazione ufficiale del Programma 2026 della Sezione Aspromonte del CAI Reggio Calabria
DESCRIPTION:Gentili socie\, soci e amici della montagna\, \nSiamo lieti di invitarvi alla presentazione ufficiale del Programma 2026 della Sezione Aspromonte del CAI Reggio Calabria. Sarà l’occasione per scoprire insieme le nuove escursioni\, le attività e i progetti che ci accompagneranno nel nuovo anno in una cornice d’eccezione. \n📍𝗧𝗲𝗿𝗿𝗮𝘇𝘇𝗮 𝗱𝗲𝗹 𝗠𝘂𝘀𝗲𝗼 𝗔𝗿𝗰𝗵𝗲𝗼𝗹𝗼𝗴𝗶𝗰𝗼 𝗡𝗮𝘇𝗶𝗼𝗻𝗮𝗹𝗲 𝗱𝗶 𝗥𝗲𝗴𝗴𝗶𝗼 𝗖𝗮𝗹𝗮𝗯𝗿𝗶𝗮 \n🗓️ 𝗦𝗮𝗯𝗮𝘁𝗼 𝟮𝟰 𝗴𝗲𝗻𝗻𝗮𝗶𝗼 𝟮𝟬𝟮𝟲\, 𝗢𝗿𝗲 𝟭𝟲:𝟬𝟬 \n⚠️ Informazioni importanti per l’accesso: I posti sono limitati a un 𝗺𝗮𝘀𝘀𝗶𝗺𝗼 𝗱𝗶 𝟵𝟬 𝗽𝗲𝗿𝘀𝗼𝗻𝗲. 𝗣𝗲𝗿 𝗽𝗮𝗿𝘁𝗲𝗰𝗶𝗽𝗮𝗿𝗲 𝗲̀ 𝗼𝗯𝗯𝗹𝗶𝗴𝗮𝘁𝗼𝗿𝗶𝗼 𝗿𝗲𝗴𝗶𝘀𝘁𝗿𝗮𝗿𝘀𝗶 𝗰𝗼𝗺𝗽𝗶𝗹𝗮𝗻𝗱𝗼 𝗶𝗹 𝗺𝗼𝗱𝘂𝗹𝗼 𝘀𝗼𝘁𝘁𝗼𝘀𝘁𝗮𝗻𝘁𝗲. Vi preghiamo di presentarvi all’ingresso del Museo almeno 15 minuti prima (prima delle ore 15:45) per agevolare le operazioni di accettazione all’ingresso. \n𝗟𝗮 𝗽𝗿𝗲𝗻𝗼𝘁𝗮𝘇𝗶𝗼𝗻𝗲 𝗲̀ 𝗶𝗻𝗱𝗶𝘃𝗶𝗱𝘂𝗮𝗹𝗲 𝗲 𝗼𝗯𝗯𝗹𝗶𝗴𝗮𝘁𝗼𝗿𝗶𝗮 𝗽𝗲𝗿 𝗽𝗼𝘁𝗲𝗿 𝗽𝗮𝗿𝘁𝗲𝗰𝗶𝗽𝗮𝗿𝗲 𝗮𝗹𝗹’𝗲𝘃𝗲𝗻𝘁𝗼 𝗲 𝘃𝗮𝗹𝗲 𝗽𝗲𝗿 𝘂𝗻𝗮 𝘀𝗼𝗹𝗮 𝗽𝗲𝗿𝘀𝗼𝗻𝗮; chi vuol venire in compagnia di familiari ed amici\, inoltri questo messaggio affinché possano registrarsi anche loro! \n\nRiserva il tuo posto qui 👇🏼 \nhttps://caireggio.short.gy/presentazione.programmaCAI2026 \n\nScopri il Programma del CAI RC 2026 qui 👇🏼 \nhttps://caireggio.short.gy/Programma2026 \n\nVi aspettiamo per iniziare insieme questo nuovo cammino!
URL:https://organizzazione.cai.it/sez-reggio-calabria/evento/presentazioneprogramma2026/
CATEGORIES:Altro
ATTACH;FMTTYPE=image/webp:https://organizzazione.cai.it/sez-reggio-calabria/wp-content/uploads/sites/44/2026/01/presentazione-programma-2026.webp
END:VEVENT
BEGIN:VEVENT
DTSTART;VALUE=DATE:20260118
DTEND;VALUE=DATE:20260119
DTSTAMP:20260422T002353
CREATED:20251119T114940Z
LAST-MODIFIED:20260113T114026Z
UID:2739-1768694400-1768780799@organizzazione.cai.it
SUMMARY:❄️ Sicuri in montagna d’inverno 2026 ❄️
DESCRIPTION:📅 Domenica 18 Gennaio 2026\, dalle ore 09:00 a seguire \n📍 Gambarie (RC) \nUn’occasione importante per imparare a conoscere i rischi della montagna in inverno\, approfondire le buone pratiche di prevenzione e capire come comportarsi in caso di emergenza\, grazie all’esperienza dei tecnici del Soccorso Alpino. \nLa montagna è meravigliosa\, ma va vissuta con consapevolezza\, preparazione e rispetto. La giornata sarà rivolta a escursionisti\, appassionati e a chiunque voglia avvicinarsi alla montagna in sicurezza. \nDurante la giornata faremo una ciaspolata didattica. la dimostrazione dell’utilizzo di ARTVA\, sonda e tecniche di sondaggio e illustreremo la gestione dell’ipotermia e stabilizzazione dell’infortunato \n⚠️ Si invita ad indossare abbigliamento invernale adeguato\, scarponi da trekking e munirsi di sci/ciaspole e bastoncini. \nℹ️ Per info e adesioni contattare i riferimenti in locandina
URL:https://organizzazione.cai.it/sez-reggio-calabria/evento/sicuri-con-la-neve/
CATEGORIES:Altro
ATTACH;FMTTYPE=image/webp:https://organizzazione.cai.it/sez-reggio-calabria/wp-content/uploads/sites/44/2025/11/sicuri-con-la-neve.webp
END:VEVENT
END:VCALENDAR