BEGIN:VCALENDAR
VERSION:2.0
PRODID:-//Sezione di Reggio Calabria - ECPv6.10.3//NONSGML v1.0//EN
CALSCALE:GREGORIAN
METHOD:PUBLISH
X-WR-CALNAME:Sezione di Reggio Calabria
X-ORIGINAL-URL:https://organizzazione.cai.it/sez-reggio-calabria
X-WR-CALDESC:Eventi per Sezione di Reggio Calabria
REFRESH-INTERVAL;VALUE=DURATION:PT1H
X-Robots-Tag:noindex
X-PUBLISHED-TTL:PT1H
BEGIN:VTIMEZONE
TZID:UTC
BEGIN:STANDARD
TZOFFSETFROM:+0000
TZOFFSETTO:+0000
TZNAME:UTC
DTSTART:20260101T000000
END:STANDARD
END:VTIMEZONE
BEGIN:VEVENT
DTSTART;TZID=UTC:20260320T163000
DTEND;TZID=UTC:20260320T200000
DTSTAMP:20260423T030546
CREATED:20260305T101857Z
LAST-MODIFIED:20260305T101934Z
UID:4229-1774024200-1774036800@organizzazione.cai.it
SUMMARY:Assemblea ordinaria dei Soci del Club Alpino Italiano – Sezione Aspromonte
DESCRIPTION:Cari Soci\,  \nsiamo lieti di invitarvi all’Assemblea ordinaria dei Soci del Club Alpino Italiano – Sezione Aspromonte\, convocata per venerdì 20 marzo 2026 presso la nostra sede di Via Sbarre superiori 61/C\, a Reggio Calabria.  \nQuesto appuntamento assume un significato particolare: è la prima Assemblea del nostro primo anno di mandato. Un anno intenso\, dedicato a rinnovare lo spirito associativo\, valorizzare il nostro territorio e rafforzare il ruolo della Sezione come punto di riferimento per chi ama la montagna.  \nInsieme a tutto il Direttivo\, abbiamo lavorato con passione per portare avanti i valori che ci uniscono: la conoscenza\, la tutela e la fruizione consapevole dell’ambiente montano e delle terre alte\, con uno sguardo sempre attento all’Aspromonte.  \nDurante l’Assemblea ripercorreremo le attività svolte nel 2025\, approveremo i bilanci e il programma per il 2026\, e procederemo ad alcune importanti nomine statutarie. Ma\, soprattutto\, sarà l’occasione per incontrarci\, confrontarci e costruire insieme il futuro della nostra Sezione.  \nVi aspettiamo numerosi\, perché la forza del CAI è nella partecipazione di tutti i soci. Per ordini del giorno e dettagli clicca qui. \nIl Presidente\nGiandomenico Posillipo\ne il Consiglio Direttivo della Sezione Aspromonte  \n 
URL:https://organizzazione.cai.it/sez-reggio-calabria/evento/assemblea-ordinaria-dei-soci-del-club-alpino-italiano-sezione-aspromonte/
CATEGORIES:Altro
ATTACH;FMTTYPE=image/jpeg:https://organizzazione.cai.it/sez-reggio-calabria/wp-content/uploads/sites/44/2024/06/DefaultFeatureImage_CAI.jpg
END:VEVENT
BEGIN:VEVENT
DTSTART;VALUE=DATE:20260613
DTEND;VALUE=DATE:20260614
DTSTAMP:20260423T030546
CREATED:20251119T115317Z
LAST-MODIFIED:20251119T130522Z
UID:2793-1781308800-1781395199@organizzazione.cai.it
SUMMARY:Sicuri sul Sentiero
DESCRIPTION:Evento da confermare nei giorni precedenti l’uscita. Ulteriori dettagli saranno dati in prossimità dell’evento stesso aggiornando questa descrizione sul sito. Consuetamente le uscite giornaliere del weekend vengono confermate o annullate il martedì precedente l’uscita tramite i nostri canali. Segui tutti gli aggiornamenti del CAI Reggio Calabria su Whatsapp https://chat.whatsapp.com/BhUezT56qj213l2MtwEbtf o sui social come CAI Reggo Calabria su Facebook https://www.facebook.com/caireggiocalabria e CAI Giovani Reggio Calabria su Instagram https://www.instagram.com/caigiovanireggiocalabria/
URL:https://organizzazione.cai.it/sez-reggio-calabria/evento/sicuri-sul-sentiero/
CATEGORIES:Altro
ATTACH;FMTTYPE=image/jpeg:https://organizzazione.cai.it/sez-reggio-calabria/wp-content/uploads/sites/44/2024/06/DefaultFeatureImage_CAI.jpg
END:VEVENT
BEGIN:VEVENT
DTSTART;VALUE=DATE:20260922
DTEND;VALUE=DATE:20260928
DTSTAMP:20260423T030546
CREATED:20251119T115439Z
LAST-MODIFIED:20251119T130637Z
UID:2815-1790035200-1790553599@organizzazione.cai.it
SUMMARY:Settimana Nazionale Escursionismo
DESCRIPTION:Evento da confermare nei giorni precedenti l’uscita. Ulteriori dettagli saranno dati in prossimità dell’evento stesso aggiornando questa descrizione sul sito. Consuetamente le uscite giornaliere del weekend vengono confermate o annullate il martedì precedente l’uscita tramite i nostri canali. Segui tutti gli aggiornamenti del CAI Reggio Calabria su Whatsapp https://chat.whatsapp.com/BhUezT56qj213l2MtwEbtf o sui social come CAI Reggo Calabria su Facebook https://www.facebook.com/caireggiocalabria e CAI Giovani Reggio Calabria su Instagram https://www.instagram.com/caigiovanireggiocalabria/
URL:https://organizzazione.cai.it/sez-reggio-calabria/evento/settimana-nazionale-escursionismo/
CATEGORIES:Altro
ATTACH;FMTTYPE=image/jpeg:https://organizzazione.cai.it/sez-reggio-calabria/wp-content/uploads/sites/44/2024/06/DefaultFeatureImage_CAI.jpg
END:VEVENT
BEGIN:VEVENT
DTSTART;VALUE=DATE:20261213
DTEND;VALUE=DATE:20261214
DTSTAMP:20260423T030546
CREATED:20251119T115544Z
LAST-MODIFIED:20251119T130729Z
UID:2836-1797120000-1797206399@organizzazione.cai.it
SUMMARY:Pranzo Sociale
DESCRIPTION:Evento da confermare nei giorni precedenti l’uscita. Ulteriori dettagli saranno dati in prossimità dell’evento stesso aggiornando questa descrizione sul sito. Consuetamente le uscite giornaliere del weekend vengono confermate o annullate il martedì precedente l’uscita tramite i nostri canali. Segui tutti gli aggiornamenti del CAI Reggio Calabria su Whatsapp https://chat.whatsapp.com/BhUezT56qj213l2MtwEbtf o sui social come CAI Reggo Calabria su Facebook https://www.facebook.com/caireggiocalabria e CAI Giovani Reggio Calabria su Instagram https://www.instagram.com/caigiovanireggiocalabria/
URL:https://organizzazione.cai.it/sez-reggio-calabria/evento/pranzo-sociale/
CATEGORIES:Altro
ATTACH;FMTTYPE=image/jpeg:https://organizzazione.cai.it/sez-reggio-calabria/wp-content/uploads/sites/44/2024/06/DefaultFeatureImage_CAI.jpg
END:VEVENT
END:VCALENDAR