BEGIN:VCALENDAR
VERSION:2.0
PRODID:-//Sezione di Reggio Calabria - ECPv6.10.3//NONSGML v1.0//EN
CALSCALE:GREGORIAN
METHOD:PUBLISH
X-ORIGINAL-URL:https://organizzazione.cai.it/sez-reggio-calabria
X-WR-CALDESC:Eventi per Sezione di Reggio Calabria
REFRESH-INTERVAL;VALUE=DURATION:PT1H
X-Robots-Tag:noindex
X-PUBLISHED-TTL:PT1H
BEGIN:VTIMEZONE
TZID:Europe/Rome
BEGIN:DAYLIGHT
TZOFFSETFROM:+0100
TZOFFSETTO:+0200
TZNAME:CEST
DTSTART:20260329T010000
END:DAYLIGHT
BEGIN:STANDARD
TZOFFSETFROM:+0200
TZOFFSETTO:+0100
TZNAME:CET
DTSTART:20261025T010000
END:STANDARD
END:VTIMEZONE
BEGIN:VEVENT
DTSTART;TZID=Europe/Rome:20260428T210000
DTEND;TZID=Europe/Rome:20260428T223000
DTSTAMP:20260421T210347
CREATED:20260421T133655Z
LAST-MODIFIED:20260421T133655Z
UID:4629-1777410000-1777415400@organizzazione.cai.it
SUMMARY:Conferenza | Geologia e minerali della Calabria
DESCRIPTION:Sezione CAI di Reggio Calabria \nLa Calabria è un territorio geologicamente unico nel Sud Italia\, caratterizzato da una straordinaria varietà di rocce e minerali che testimoniano una lunga e complessa storia della Terra: dalle profondità della crosta continentale europea ai resti dell’antico oceano Tetide\, fino alle formazioni sedimentarie appenniniche. Questa diversità ha favorito la presenza di importanti giacimenti minerari e ha reso la regione un vero museo naturale all’aperto\, fondamentale per comprendere l’evoluzione del Mediterraneo. \nNel corso dell’incontro\, il geologo Luigi Dattola e il medico e studioso Gianpaolo Barone accompagneranno il pubblico in un percorso tra geologia\, storia mineraria e mineralogia calabrese\, approfondendo i principali distretti mineralogici della regione. \nTi aspettiamo!\nIngresso libero ✅ \n 
URL:https://organizzazione.cai.it/sez-reggio-calabria/evento/conferenza-geologia-e-minerali-della-calabria/
CATEGORIES:Conferenze
ATTACH;FMTTYPE=image/webp:https://organizzazione.cai.it/sez-reggio-calabria/wp-content/uploads/sites/44/2026/04/1.webp
END:VEVENT
END:VCALENDAR