BEGIN:VCALENDAR
VERSION:2.0
PRODID:-//Sezione di Reggio Calabria - ECPv6.10.3//NONSGML v1.0//EN
CALSCALE:GREGORIAN
METHOD:PUBLISH
X-ORIGINAL-URL:https://organizzazione.cai.it/sez-reggio-calabria
X-WR-CALDESC:Eventi per Sezione di Reggio Calabria
REFRESH-INTERVAL;VALUE=DURATION:PT1H
X-Robots-Tag:noindex
X-PUBLISHED-TTL:PT1H
BEGIN:VTIMEZONE
TZID:UTC
BEGIN:STANDARD
TZOFFSETFROM:+0000
TZOFFSETTO:+0000
TZNAME:UTC
DTSTART:20260101T000000
END:STANDARD
END:VTIMEZONE
BEGIN:VEVENT
DTSTART;VALUE=DATE:20260531
DTEND;VALUE=DATE:20260603
DTSTAMP:20260422T033642
CREATED:20251119T115301Z
LAST-MODIFIED:20251119T130517Z
UID:2789-1780185600-1780444799@organizzazione.cai.it
SUMMARY:Festival dell'Escursionista | In collaborazione con PNA\, Comune di Santo Stefano\, Guide del Parco ed altre associazioni reggine
DESCRIPTION:Evento da confermare nei giorni precedenti l’uscita. Ulteriori dettagli saranno dati in prossimità dell’evento stesso aggiornando questa descrizione sul sito. Consuetamente le uscite giornaliere del weekend vengono confermate o annullate il martedì precedente l’uscita tramite i nostri canali. Segui tutti gli aggiornamenti del CAI Reggio Calabria su Whatsapp https://chat.whatsapp.com/BhUezT56qj213l2MtwEbtf o sui social come CAI Reggo Calabria su Facebook https://www.facebook.com/caireggiocalabria e CAI Giovani Reggio Calabria su Instagram https://www.instagram.com/caigiovanireggiocalabria/
URL:https://organizzazione.cai.it/sez-reggio-calabria/evento/festival-dellescursionista-in-collaborazione-con-pna-comune-di-santo-stefano-guide-del-parco-ed-altre-associazioni-reggine/
CATEGORIES:E
ATTACH;FMTTYPE=image/jpeg:https://organizzazione.cai.it/sez-reggio-calabria/wp-content/uploads/sites/44/2024/06/DefaultFeatureImage_CAI.jpg
END:VEVENT
BEGIN:VEVENT
DTSTART;VALUE=DATE:20260606
DTEND;VALUE=DATE:20260607
DTSTAMP:20260422T033642
CREATED:20251119T115301Z
LAST-MODIFIED:20251119T130517Z
UID:2791-1780704000-1780790399@organizzazione.cai.it
SUMMARY:Sul Sentiero Emilio
DESCRIPTION:Evento da confermare nei giorni precedenti l’uscita. Ulteriori dettagli saranno dati in prossimità dell’evento stesso aggiornando questa descrizione sul sito. Consuetamente le uscite giornaliere del weekend vengono confermate o annullate il martedì precedente l’uscita tramite i nostri canali. Segui tutti gli aggiornamenti del CAI Reggio Calabria su Whatsapp https://chat.whatsapp.com/BhUezT56qj213l2MtwEbtf o sui social come CAI Reggo Calabria su Facebook https://www.facebook.com/caireggiocalabria e CAI Giovani Reggio Calabria su Instagram https://www.instagram.com/caigiovanireggiocalabria/
URL:https://organizzazione.cai.it/sez-reggio-calabria/evento/sul-sentiero-emilio/
CATEGORIES:E
ATTACH;FMTTYPE=image/jpeg:https://organizzazione.cai.it/sez-reggio-calabria/wp-content/uploads/sites/44/2024/06/DefaultFeatureImage_CAI.jpg
END:VEVENT
BEGIN:VEVENT
DTSTART;VALUE=DATE:20260606
DTEND;VALUE=DATE:20260608
DTSTAMP:20260422T033642
CREATED:20251119T115301Z
LAST-MODIFIED:20251119T130517Z
UID:2790-1780704000-1780876799@organizzazione.cai.it
SUMMARY:Pizzo Carbonara | Intersezionale con CAI Cefalù
DESCRIPTION:Evento da confermare nei giorni precedenti l’uscita. Ulteriori dettagli saranno dati in prossimità dell’evento stesso aggiornando questa descrizione sul sito. Consuetamente le uscite giornaliere del weekend vengono confermate o annullate il martedì precedente l’uscita tramite i nostri canali. Segui tutti gli aggiornamenti del CAI Reggio Calabria su Whatsapp https://chat.whatsapp.com/BhUezT56qj213l2MtwEbtf o sui social come CAI Reggo Calabria su Facebook https://www.facebook.com/caireggiocalabria e CAI Giovani Reggio Calabria su Instagram https://www.instagram.com/caigiovanireggiocalabria/
URL:https://organizzazione.cai.it/sez-reggio-calabria/evento/pizzo-carbonara-intersezionale-con-cai-cefalu/
CATEGORIES:E
ATTACH;FMTTYPE=image/jpeg:https://organizzazione.cai.it/sez-reggio-calabria/wp-content/uploads/sites/44/2024/06/DefaultFeatureImage_CAI.jpg
END:VEVENT
BEGIN:VEVENT
DTSTART;VALUE=DATE:20260607
DTEND;VALUE=DATE:20260608
DTSTAMP:20260422T033642
CREATED:20251119T115316Z
LAST-MODIFIED:20251119T130522Z
UID:2792-1780790400-1780876799@organizzazione.cai.it
SUMMARY:Pietra Cappa
DESCRIPTION:Evento da confermare nei giorni precedenti l’uscita. Ulteriori dettagli saranno dati in prossimità dell’evento stesso aggiornando questa descrizione sul sito. Consuetamente le uscite giornaliere del weekend vengono confermate o annullate il martedì precedente l’uscita tramite i nostri canali. Segui tutti gli aggiornamenti del CAI Reggio Calabria su Whatsapp https://chat.whatsapp.com/BhUezT56qj213l2MtwEbtf o sui social come CAI Reggo Calabria su Facebook https://www.facebook.com/caireggiocalabria e CAI Giovani Reggio Calabria su Instagram https://www.instagram.com/caigiovanireggiocalabria/
URL:https://organizzazione.cai.it/sez-reggio-calabria/evento/pietra-cappa/
CATEGORIES:E
ATTACH;FMTTYPE=image/jpeg:https://organizzazione.cai.it/sez-reggio-calabria/wp-content/uploads/sites/44/2024/06/DefaultFeatureImage_CAI.jpg
END:VEVENT
BEGIN:VEVENT
DTSTART;VALUE=DATE:20260614
DTEND;VALUE=DATE:20260615
DTSTAMP:20260422T033642
CREATED:20251119T115317Z
LAST-MODIFIED:20251119T130522Z
UID:2794-1781395200-1781481599@organizzazione.cai.it
SUMMARY:TAM - In Cammino nei Parchi | Intersezionale con CAI Calabria
DESCRIPTION:Evento da confermare nei giorni precedenti l’uscita. Ulteriori dettagli saranno dati in prossimità dell’evento stesso aggiornando questa descrizione sul sito. Consuetamente le uscite giornaliere del weekend vengono confermate o annullate il martedì precedente l’uscita tramite i nostri canali. Segui tutti gli aggiornamenti del CAI Reggio Calabria su Whatsapp https://chat.whatsapp.com/BhUezT56qj213l2MtwEbtf o sui social come CAI Reggo Calabria su Facebook https://www.facebook.com/caireggiocalabria e CAI Giovani Reggio Calabria su Instagram https://www.instagram.com/caigiovanireggiocalabria/
URL:https://organizzazione.cai.it/sez-reggio-calabria/evento/tam-in-cammino-nei-parchi-intersezionale-con-cai-calabria/
CATEGORIES:E
ATTACH;FMTTYPE=image/jpeg:https://organizzazione.cai.it/sez-reggio-calabria/wp-content/uploads/sites/44/2024/06/DefaultFeatureImage_CAI.jpg
END:VEVENT
BEGIN:VEVENT
DTSTART;VALUE=DATE:20260620
DTEND;VALUE=DATE:20260621
DTSTAMP:20260422T033642
CREATED:20251119T115317Z
LAST-MODIFIED:20251119T130522Z
UID:2795-1781913600-1781999999@organizzazione.cai.it
SUMMARY:Sentiero dell'Acqua
DESCRIPTION:Evento da confermare nei giorni precedenti l’uscita. Ulteriori dettagli saranno dati in prossimità dell’evento stesso aggiornando questa descrizione sul sito. Consuetamente le uscite giornaliere del weekend vengono confermate o annullate il martedì precedente l’uscita tramite i nostri canali. Segui tutti gli aggiornamenti del CAI Reggio Calabria su Whatsapp https://chat.whatsapp.com/BhUezT56qj213l2MtwEbtf o sui social come CAI Reggo Calabria su Facebook https://www.facebook.com/caireggiocalabria e CAI Giovani Reggio Calabria su Instagram https://www.instagram.com/caigiovanireggiocalabria/
URL:https://organizzazione.cai.it/sez-reggio-calabria/evento/sentiero-dellacqua/
CATEGORIES:E
ATTACH;FMTTYPE=image/jpeg:https://organizzazione.cai.it/sez-reggio-calabria/wp-content/uploads/sites/44/2024/06/DefaultFeatureImage_CAI.jpg
END:VEVENT
BEGIN:VEVENT
DTSTART;VALUE=DATE:20260620
DTEND;VALUE=DATE:20260622
DTSTAMP:20260422T033642
CREATED:20251119T115317Z
LAST-MODIFIED:20251119T130522Z
UID:2796-1781913600-1782086399@organizzazione.cai.it
SUMMARY:Giornata Nazionale Sentiero Italia CAI
DESCRIPTION:Evento da confermare nei giorni precedenti l’uscita. Ulteriori dettagli saranno dati in prossimità dell’evento stesso aggiornando questa descrizione sul sito. Consuetamente le uscite giornaliere del weekend vengono confermate o annullate il martedì precedente l’uscita tramite i nostri canali. Segui tutti gli aggiornamenti del CAI Reggio Calabria su Whatsapp https://chat.whatsapp.com/BhUezT56qj213l2MtwEbtf o sui social come CAI Reggo Calabria su Facebook https://www.facebook.com/caireggiocalabria e CAI Giovani Reggio Calabria su Instagram https://www.instagram.com/caigiovanireggiocalabria/
URL:https://organizzazione.cai.it/sez-reggio-calabria/evento/giornata-nazionale-sentiero-italia-cai/
CATEGORIES:E
ATTACH;FMTTYPE=image/jpeg:https://organizzazione.cai.it/sez-reggio-calabria/wp-content/uploads/sites/44/2024/06/DefaultFeatureImage_CAI.jpg
END:VEVENT
BEGIN:VEVENT
DTSTART;VALUE=DATE:20260621
DTEND;VALUE=DATE:20260622
DTSTAMP:20260422T033642
CREATED:20251119T115321Z
LAST-MODIFIED:20251119T130538Z
UID:2798-1782000000-1782086399@organizzazione.cai.it
SUMMARY:Cascata Ninarello
DESCRIPTION:Evento da confermare nei giorni precedenti l’uscita. Ulteriori dettagli saranno dati in prossimità dell’evento stesso aggiornando questa descrizione sul sito. Consuetamente le uscite giornaliere del weekend vengono confermate o annullate il martedì precedente l’uscita tramite i nostri canali. Segui tutti gli aggiornamenti del CAI Reggio Calabria su Whatsapp https://chat.whatsapp.com/BhUezT56qj213l2MtwEbtf o sui social come CAI Reggo Calabria su Facebook https://www.facebook.com/caireggiocalabria e CAI Giovani Reggio Calabria su Instagram https://www.instagram.com/caigiovanireggiocalabria/
URL:https://organizzazione.cai.it/sez-reggio-calabria/evento/cascata-ninarello/
CATEGORIES:E
ATTACH;FMTTYPE=image/jpeg:https://organizzazione.cai.it/sez-reggio-calabria/wp-content/uploads/sites/44/2024/06/DefaultFeatureImage_CAI.jpg
END:VEVENT
BEGIN:VEVENT
DTSTART;VALUE=DATE:20260628
DTEND;VALUE=DATE:20260629
DTSTAMP:20260422T033642
CREATED:20251119T115321Z
LAST-MODIFIED:20251119T130538Z
UID:2799-1782604800-1782691199@organizzazione.cai.it
SUMMARY:Giornata della sostenibilità | In collaborazione con Comune di Santo Stefano e altre associazioni reggine. OPEN DAY
DESCRIPTION:Evento da confermare nei giorni precedenti l’uscita. Ulteriori dettagli saranno dati in prossimità dell’evento stesso aggiornando questa descrizione sul sito. Consuetamente le uscite giornaliere del weekend vengono confermate o annullate il martedì precedente l’uscita tramite i nostri canali. Segui tutti gli aggiornamenti del CAI Reggio Calabria su Whatsapp https://chat.whatsapp.com/BhUezT56qj213l2MtwEbtf o sui social come CAI Reggo Calabria su Facebook https://www.facebook.com/caireggiocalabria e CAI Giovani Reggio Calabria su Instagram https://www.instagram.com/caigiovanireggiocalabria/
URL:https://organizzazione.cai.it/sez-reggio-calabria/evento/giornata-della-sostenibilita-in-collaborazione-con-comune-di-santo-stefano-e-altre-associazioni-reggine-open-day/
CATEGORIES:E
ATTACH;FMTTYPE=image/jpeg:https://organizzazione.cai.it/sez-reggio-calabria/wp-content/uploads/sites/44/2024/06/DefaultFeatureImage_CAI.jpg
END:VEVENT
END:VCALENDAR