BEGIN:VCALENDAR
VERSION:2.0
PRODID:-//Sezione di Reggio Calabria - ECPv6.10.3//NONSGML v1.0//EN
CALSCALE:GREGORIAN
METHOD:PUBLISH
X-ORIGINAL-URL:https://organizzazione.cai.it/sez-reggio-calabria
X-WR-CALDESC:Eventi per Sezione di Reggio Calabria
REFRESH-INTERVAL;VALUE=DURATION:PT1H
X-Robots-Tag:noindex
X-PUBLISHED-TTL:PT1H
BEGIN:VTIMEZONE
TZID:UTC
BEGIN:STANDARD
TZOFFSETFROM:+0000
TZOFFSETTO:+0000
TZNAME:UTC
DTSTART:20260101T000000
END:STANDARD
END:VTIMEZONE
BEGIN:VEVENT
DTSTART;VALUE=DATE:20260425
DTEND;VALUE=DATE:20260427
DTSTAMP:20260422T020020
CREATED:20251119T115226Z
LAST-MODIFIED:20260331T131224Z
UID:2774-1777075200-1777247999@organizzazione.cai.it
SUMMARY:Trekking Ibleo | Intersezionale con CAI Siracusa
DESCRIPTION:Si apre la raccolta delle Manifestazioni di Interesse per il Trekking Ibleo\, una due giorni tra natura\, storia e paesaggi d’acqua nelle splendide riserve della Sicilia sud-orientale.\nL’attività è organizzata dai soci CAI Giovanni Nicolò (Reggio Calabria) e Paolo Bottini (Siracusa)\, riferimenti telefonici nella scheda tecnica. \nIl programma prevede due escursioni molto diverse tra loro\, immerse in scenari unici per fascino e varietà:\n* Sabato 25 aprile – Cava Grande del Cassibile (E)\n* Domenica 26 aprile – Vendicari ed Eloro (T) \nGiovedì 9 aprile alle 21.00 presentazione dell’escursione in sezione (vieni a trovarci in Via Sbarre Superiori 61/c\, Reggio Calabria) 🧭 \nUlteriori dettagli nella scheda tecnica📑
URL:https://organizzazione.cai.it/sez-reggio-calabria/evento/trekking-ibleo-intersezionale-con-cai-siracusa/
CATEGORIES:E
ATTACH;FMTTYPE=image/jpeg:https://organizzazione.cai.it/sez-reggio-calabria/wp-content/uploads/sites/44/2024/06/DefaultFeatureImage_CAI.jpg
END:VEVENT
BEGIN:VEVENT
DTSTART;VALUE=DATE:20260426
DTEND;VALUE=DATE:20260427
DTSTAMP:20260422T020020
CREATED:20251119T115226Z
LAST-MODIFIED:20251119T130350Z
UID:2775-1777161600-1777247999@organizzazione.cai.it
SUMMARY:Montagna di Vernà
DESCRIPTION:Evento da confermare nei giorni precedenti l’uscita. Ulteriori dettagli saranno dati in prossimità dell’evento stesso aggiornando questa descrizione sul sito. Consuetamente le uscite giornaliere del weekend vengono confermate o annullate il martedì precedente l’uscita tramite i nostri canali. Segui tutti gli aggiornamenti del CAI Reggio Calabria su Whatsapp https://chat.whatsapp.com/BhUezT56qj213l2MtwEbtf o sui social come CAI Reggo Calabria su Facebook https://www.facebook.com/caireggiocalabria e CAI Giovani Reggio Calabria su Instagram https://www.instagram.com/caigiovanireggiocalabria/
URL:https://organizzazione.cai.it/sez-reggio-calabria/evento/montagna-di-verna/
CATEGORIES:E
ATTACH;FMTTYPE=image/jpeg:https://organizzazione.cai.it/sez-reggio-calabria/wp-content/uploads/sites/44/2024/06/DefaultFeatureImage_CAI.jpg
END:VEVENT
END:VCALENDAR