BEGIN:VCALENDAR
VERSION:2.0
PRODID:-//Sezione di Reggio Calabria - ECPv6.10.3//NONSGML v1.0//EN
CALSCALE:GREGORIAN
METHOD:PUBLISH
X-WR-CALNAME:Sezione di Reggio Calabria
X-ORIGINAL-URL:https://organizzazione.cai.it/sez-reggio-calabria
X-WR-CALDESC:Eventi per Sezione di Reggio Calabria
REFRESH-INTERVAL;VALUE=DURATION:PT1H
X-Robots-Tag:noindex
X-PUBLISHED-TTL:PT1H
BEGIN:VTIMEZONE
TZID:UTC
BEGIN:STANDARD
TZOFFSETFROM:+0000
TZOFFSETTO:+0000
TZNAME:UTC
DTSTART:20250101T000000
END:STANDARD
END:VTIMEZONE
BEGIN:VEVENT
DTSTART;VALUE=DATE:20260125
DTEND;VALUE=DATE:20260126
DTSTAMP:20260422T030936
CREATED:20251119T114940Z
LAST-MODIFIED:20260120T105518Z
UID:2741-1769299200-1769385599@organizzazione.cai.it
SUMMARY:Fucidà - Rocche di Prastarà - Pentidattilo
DESCRIPTION:Il percorso sarà un itinerario lineare\, semplice e panoramico. Dopo aver parcheggiato poco oltre la frazione di Fucidà (Saline Joniche)\, si camminerà su una strada in parte asfaltata con tratti in lieve salita fino alle Rocche di Prastarà. Da lì si scenderà verso la fiumara Sant’Elia per poi risalire fino al borgo di Pentidattilo\, dove si compirà il giro attorno alla rocca e si consumerà il pranzo a sacco. Il rientro avverrà ripercorrendo lo stesso tragitto fino alle auto.\n\n\n \n\n\nDettagli ✅\n\n\n🎯 Difficoltà: E\n\n\n📏 Distanza: 12 km\n\n\n📈 Dislivello: 480m d+\, 480m d-\n\n\n⌚ Durata: 7h ca.\n\n\n \n\n\nOrganizzatori: Rokko Romeo e Francesco Polimeni\, in collaborazione con il Soccorso Alpino\n\n\n \n\n\nGiovedì 22 gennaio la presentazione in sezione dell’evento (vieni a trovarci in Via Sbarre Superiori 61/c a Reggio Calabria) 🧭\n\n\n \n\n\nUlteriori dettagli nella scheda tecnica📑
URL:https://organizzazione.cai.it/sez-reggio-calabria/evento/fucida-rocche-di-prastara-pentidattilo/
CATEGORIES:E
ATTACH;FMTTYPE=image/webp:https://organizzazione.cai.it/sez-reggio-calabria/wp-content/uploads/sites/44/2025/11/locandine-cai-1.webp
END:VEVENT
BEGIN:VEVENT
DTSTART;VALUE=DATE:20260117
DTEND;VALUE=DATE:20260118
DTSTAMP:20260422T030936
CREATED:20251119T114940Z
LAST-MODIFIED:20260113T110609Z
UID:2740-1768608000-1768694399@organizzazione.cai.it
SUMMARY:Bova - Monte Trizzi
DESCRIPTION:Itinerario escursionistico ad anello alla scoperta della valle dell’Amendolea\, con partenza nei pressi di Bova Marina. Il percorso sale verso i monti Trizzi-Rondinella\, offrendo la vista di un raro albero secolare e panorami sui paesi dell’area grecanica. Dopo una possibile deviazione panoramica facoltativa\, il rientro passa attraverso una formazione a calanchi e un breve tratto fuori pista. L’escursione si conclude con la visita alle gole del torrente Vena e all’acquedotto di Priconderi.\n\n\n \n\n\nDettagli ✅\n\n\n🎯 Difficoltà: E\n\n\n📏 Distanza: 13 km\n\n\n📈 Dislivello: 330m d+\, 330m d-\n\n\n⌚ Durata: 6h ca.\n\n\n \n\n\nOrganizzatori: Luigi Torino e Diego Festa.\n\n\n \n\n\nGiovedì 15 gennaio la presentazione in sezione dell’evento (vieni a trovarci in Via Sbarre Superiori 61/c a Reggio Calabria) 🧭\n\n\n \n\n\nUlteriori dettagli nella scheda tecnica📑
URL:https://organizzazione.cai.it/sez-reggio-calabria/evento/bova-monte-trizzi/
CATEGORIES:E
ATTACH;FMTTYPE=image/webp:https://organizzazione.cai.it/sez-reggio-calabria/wp-content/uploads/sites/44/2025/11/locandine-cai.webp
END:VEVENT
BEGIN:VEVENT
DTSTART;VALUE=DATE:20251207
DTEND;VALUE=DATE:20251208
DTSTAMP:20260422T030936
CREATED:20251202T110642Z
LAST-MODIFIED:20251202T110710Z
UID:3118-1765065600-1765151999@organizzazione.cai.it
SUMMARY:Escursione | Anello di Gambarie e dei suoi boschi incantati
DESCRIPTION:Nel cuore dell’Aspromonte si snoda l’Anello di Gambarie\, con inizio e fine al Rifugio Virdia: un percorso che unisce natura\, memoria e novità. L’itinerario attraverserà le località Fragolara e Tre Aie\, il Bosco delle Fate e degli Artisti\, la pista azzurra\, il Fantabosco\, il Bosco di Mezzo e Chanson d’Aspremont e Bosco dei Terreni Rossi.\n\n\n \n\n\nDettagli ✅\n\n\n🎯 Difficoltà: E\n\n\n📏 Distanza: 12 km\n\n\n📈 Dislivello: 400m d+\, 400m d-\n\n\n⌚ Durata: 6h\n\n\n \n\n\nOrganizzatori: Rocco Romeo e Massimo Di Lorenzo.\n\n\n \n\n\nGiovedì 4 dicembre la presentazione in sezione dell’evento (vieni a trovarci in Via Sbarre Superiori 61/c a Reggio Calabria) 🧭\n\n\nUlteriori dettagli nella scheda tecnica 📑
URL:https://organizzazione.cai.it/sez-reggio-calabria/evento/escursione-anello-di-gambarie-e-dei-suoi-boschi-incantati/
CATEGORIES:E
ATTACH;FMTTYPE=image/webp:https://organizzazione.cai.it/sez-reggio-calabria/wp-content/uploads/sites/44/2025/12/locandina-cai.webp
END:VEVENT
END:VCALENDAR