BEGIN:VCALENDAR
VERSION:2.0
PRODID:-//Sezione di Reggio Calabria - ECPv6.10.3//NONSGML v1.0//EN
CALSCALE:GREGORIAN
METHOD:PUBLISH
X-WR-CALNAME:Sezione di Reggio Calabria
X-ORIGINAL-URL:https://organizzazione.cai.it/sez-reggio-calabria
X-WR-CALDESC:Eventi per Sezione di Reggio Calabria
REFRESH-INTERVAL;VALUE=DURATION:PT1H
X-Robots-Tag:noindex
X-PUBLISHED-TTL:PT1H
BEGIN:VTIMEZONE
TZID:UTC
BEGIN:STANDARD
TZOFFSETFROM:+0000
TZOFFSETTO:+0000
TZNAME:UTC
DTSTART:20260101T000000
END:STANDARD
END:VTIMEZONE
BEGIN:VEVENT
DTSTART;VALUE=DATE:20260301
DTEND;VALUE=DATE:20260302
DTSTAMP:20260422T014151
CREATED:20251119T114950Z
LAST-MODIFIED:20260224T130751Z
UID:2756-1772323200-1772409599@organizzazione.cai.it
SUMMARY:Etna Nord
DESCRIPTION:Un anello impegnativo e spettacolare sul versante nord dell’Etna\, tra colate laviche\, hornitos\, fratture eruttive e crateri storici. Dal piazzale dei Pompieri di Piano Provenzana si attraversano le lave del 2002 e del 1923\, si risale verso Monte Nero e si raggiungono le Bocche del 2002\, con il loro impressionante campo di bombe laviche. L’itinerario prosegue verso Punta di Ferro\, Monte Frumento\, Monte Cacciatore e i crateri Umberto e Margherita\, fino alla grotta alla base di Monte Pizzillo (2414 m). Rientro lungo la pista dei fuoristrada.\n\n\n \n\n\nDettagli ✅\n\n\n🎯 Difficoltà: EAI – alta\n\n\n📏 Distanza: 10 km\n\n\n📈 Dislivello: 650 m d+\, 650 m d-\n\n\n⌚ Durata: 6 ore (soste comprese)\n\n\n \n\n\nAccompagnatori: Giovanni Nicolò – Giuseppe Marino\n\n\n \n\n\nGiovedì 26 febbraio presentazione dell’escursione in sezione (vieni a trovarci in Via Sbarre Superiori 61/c\, Reggio Calabria) 🧭\n\n\n \n\n\nUlteriori dettagli nella scheda tecnica📑
URL:https://organizzazione.cai.it/sez-reggio-calabria/evento/etna-nord/
CATEGORIES:EAI
ATTACH;FMTTYPE=image/jpeg:https://organizzazione.cai.it/sez-reggio-calabria/wp-content/uploads/sites/44/2024/06/DefaultFeatureImage_CAI.jpg
END:VEVENT
END:VCALENDAR