BEGIN:VCALENDAR
VERSION:2.0
PRODID:-//Sezione di Reggio Calabria - ECPv6.10.3//NONSGML v1.0//EN
CALSCALE:GREGORIAN
METHOD:PUBLISH
X-WR-CALNAME:Sezione di Reggio Calabria
X-ORIGINAL-URL:https://organizzazione.cai.it/sez-reggio-calabria
X-WR-CALDESC:Eventi per Sezione di Reggio Calabria
REFRESH-INTERVAL;VALUE=DURATION:PT1H
X-Robots-Tag:noindex
X-PUBLISHED-TTL:PT1H
BEGIN:VTIMEZONE
TZID:UTC
BEGIN:STANDARD
TZOFFSETFROM:+0000
TZOFFSETTO:+0000
TZNAME:UTC
DTSTART:20260101T000000
END:STANDARD
END:VTIMEZONE
BEGIN:VEVENT
DTSTART;VALUE=DATE:20260404
DTEND;VALUE=DATE:20260405
DTSTAMP:20260422T001419
CREATED:20251119T115136Z
LAST-MODIFIED:20260331T131106Z
UID:2767-1775260800-1775347199@organizzazione.cai.it
SUMMARY:Gli Anelli delle Rocche: Pentedattilo\, Santa Lena\, Prastarà
DESCRIPTION:Un unico grande itinerario che collega tre delle rocche più iconiche dell’Aspromonte meridionale: Pentedattilo\, Prastarà e Santa Lena. Un percorso avventuroso e panoramico\, sospeso tra l’azzurro del Mar Ionio e i colori vivi della primavera\, con tratti su roccette\, attraversamenti fangosi e passaggi suggestivi tra fenditure naturali. Un viaggio nella geologia\, nella storia e nelle leggende dei monaci bizantini e dei borghi rupestri. \nDettagli ✅\n🎯 Difficoltà: EE\n📏 Distanza: 20 km\n📈 Dislivello: 1000 m d+\, 1000 m d-\n⌚ Durata: 8.5 ore \nOrganizzatori: Carmelo Idone\, Luna Nicolò\, Domenico Pugliese \nGiovedì 2 aprile alle 21.00 presentazione dell’escursione in sezione (vieni a trovarci in Via Sbarre Superiori 61/c\, Reggio Calabria) 🧭 \nUlteriori dettagli nella scheda tecnica 📑 \n 
URL:https://organizzazione.cai.it/sez-reggio-calabria/evento/gli-anelli-delle-rocche-pentedattilo-santa-lena-prastara/
CATEGORIES:EE
ATTACH;FMTTYPE=image/webp:https://organizzazione.cai.it/sez-reggio-calabria/wp-content/uploads/sites/44/2025/11/locandine-cai-9.webp
END:VEVENT
BEGIN:VEVENT
DTSTART;VALUE=DATE:20260314
DTEND;VALUE=DATE:20260316
DTSTAMP:20260422T001419
CREATED:20251119T115005Z
LAST-MODIFIED:20260303T133135Z
UID:2760-1773446400-1773619199@organizzazione.cai.it
SUMMARY:Coast to Coast - Terme Vigliatore - Taormina | Intersezionale con CAI Messina
DESCRIPTION:Un’attraversata dura e spettacolare da mare a mare\, dalle spiagge tirreniche di Salicà fino al Mar Ionio\, raggiungendo la stazione ferroviaria di Taormina dopo due giorni intensi sulle creste più iconiche dei Peloritani. Un percorso lungo\, panoramico e fisicamente impegnativo\, che tocca Pizzo Russa\, Monte Ritagli di Lecca\, Montagna Grande\, Monte Naturi e Monte Veneretta\, con continui saliscendi e viste aperte su entrambi i mari.\n\n \n\n\nDettagli ✅\n\n\n🎯 Difficoltà: EE\n\n\n📏 Distanza: 27 km (1°Giorno); 28 km (2° Giorno)\n\n\n📈 Dislivelli: 1480m d+\, 690m d- (1°Giorno); +1564m d+\, –2300m d- (2° Giorno)\n\n\n⌚ Durata: 9 h (1°Giorno); 9 h (2° Giorno)\n\n\n \n\n\nAccompagnatori: Angelo La Rosa – Pino Perrone\n\n\n \n\n\nPer ulteriori informazioni e adesioni contattare direttamente per il CAI RC il socio Pino Perrone.\n\n\n \n\n\nDettagli nella scheda tecnica 📑
URL:https://organizzazione.cai.it/sez-reggio-calabria/evento/coast-to-coast-terme-vigliatore-taormina-intersezionale-con-cai-messina/
CATEGORIES:EE
ATTACH;FMTTYPE=image/jpeg:https://organizzazione.cai.it/sez-reggio-calabria/wp-content/uploads/sites/44/2024/06/DefaultFeatureImage_CAI.jpg
END:VEVENT
BEGIN:VEVENT
DTSTART;VALUE=DATE:20260101
DTEND;VALUE=DATE:20260102
DTSTAMP:20260422T001419
CREATED:20251119T114940Z
LAST-MODIFIED:20251218T130917Z
UID:2737-1767225600-1767311999@organizzazione.cai.it
SUMMARY:Capodanno sullo Stromboli
DESCRIPTION:Manifestazione d’interesse | Capodanno sullo Stromboli\n\n\n\nPrima uscita dell’anno e inaugurazione del nuovo programma con i soci organizzatori che insieme alle persone interessate\, organizzeranno una escursione a Stromboli tenendo conto delle condizioni meteo/marine/vulcanologiche ed in prossimità dell’evento redigeranno la scheda tecnica in base alle disposizioni normative locali vigenti per il periodo.\n\n\nI soci interessati possono contattare direttamente gli organizzatori Giuseppe Marino\, (3398268231) e Giuseppe Crisalli (3460573936) e prenotarsi per l’escursione classificata EE.
URL:https://organizzazione.cai.it/sez-reggio-calabria/evento/capodanno-sullo-stromboli/
CATEGORIES:EE
ATTACH;FMTTYPE=image/jpeg:https://organizzazione.cai.it/sez-reggio-calabria/wp-content/uploads/sites/44/2024/06/DefaultFeatureImage_CAI.jpg
END:VEVENT
END:VCALENDAR