BEGIN:VCALENDAR
VERSION:2.0
PRODID:-//Sezione di Reggio Calabria - ECPv6.10.3//NONSGML v1.0//EN
CALSCALE:GREGORIAN
METHOD:PUBLISH
X-WR-CALNAME:Sezione di Reggio Calabria
X-ORIGINAL-URL:https://organizzazione.cai.it/sez-reggio-calabria
X-WR-CALDESC:Eventi per Sezione di Reggio Calabria
REFRESH-INTERVAL;VALUE=DURATION:PT1H
X-Robots-Tag:noindex
X-PUBLISHED-TTL:PT1H
BEGIN:VTIMEZONE
TZID:UTC
BEGIN:STANDARD
TZOFFSETFROM:+0000
TZOFFSETTO:+0000
TZNAME:UTC
DTSTART:20260101T000000
END:STANDARD
END:VTIMEZONE
BEGIN:VEVENT
DTSTART;VALUE=DATE:20260420
DTEND;VALUE=DATE:20260426
DTSTAMP:20260421T224438
CREATED:20251119T115226Z
LAST-MODIFIED:20251119T130350Z
UID:2773-1776643200-1777161599@organizzazione.cai.it
SUMMARY:Malta (T/E)
DESCRIPTION:Evento da confermare nei giorni precedenti l’uscita. Ulteriori dettagli saranno dati in prossimità dell’evento stesso aggiornando questa descrizione sul sito. Consuetamente le uscite giornaliere del weekend vengono confermate o annullate il martedì precedente l’uscita tramite i nostri canali. Segui tutti gli aggiornamenti del CAI Reggio Calabria su Whatsapp https://chat.whatsapp.com/BhUezT56qj213l2MtwEbtf o sui social come CAI Reggo Calabria su Facebook https://www.facebook.com/caireggiocalabria e CAI Giovani Reggio Calabria su Instagram https://www.instagram.com/caigiovanireggiocalabria/
URL:https://organizzazione.cai.it/sez-reggio-calabria/evento/malta-t-e/
CATEGORIES:T
ATTACH;FMTTYPE=image/jpeg:https://organizzazione.cai.it/sez-reggio-calabria/wp-content/uploads/sites/44/2024/06/DefaultFeatureImage_CAI.jpg
END:VEVENT
BEGIN:VEVENT
DTSTART;VALUE=DATE:20260509
DTEND;VALUE=DATE:20260510
DTSTAMP:20260421T224438
CREATED:20251119T115236Z
LAST-MODIFIED:20251119T130358Z
UID:2780-1778284800-1778371199@organizzazione.cai.it
SUMMARY:Pentedattilo | Intesezionale con CAI Taormina
DESCRIPTION:Evento da confermare nei giorni precedenti l’uscita. Ulteriori dettagli saranno dati in prossimità dell’evento stesso aggiornando questa descrizione sul sito. Consuetamente le uscite giornaliere del weekend vengono confermate o annullate il martedì precedente l’uscita tramite i nostri canali. Segui tutti gli aggiornamenti del CAI Reggio Calabria su Whatsapp https://chat.whatsapp.com/BhUezT56qj213l2MtwEbtf o sui social come CAI Reggo Calabria su Facebook https://www.facebook.com/caireggiocalabria e CAI Giovani Reggio Calabria su Instagram https://www.instagram.com/caigiovanireggiocalabria/
URL:https://organizzazione.cai.it/sez-reggio-calabria/evento/pentedattilo-intesezionale-con-cai-taormina/
CATEGORIES:T
ATTACH;FMTTYPE=image/jpeg:https://organizzazione.cai.it/sez-reggio-calabria/wp-content/uploads/sites/44/2024/06/DefaultFeatureImage_CAI.jpg
END:VEVENT
BEGIN:VEVENT
DTSTART;VALUE=DATE:20260913
DTEND;VALUE=DATE:20260914
DTSTAMP:20260421T224438
CREATED:20251119T115344Z
LAST-MODIFIED:20251119T130622Z
UID:2811-1789257600-1789343999@organizzazione.cai.it
SUMMARY:Seduta di Terapia Forestale
DESCRIPTION:Evento da confermare nei giorni precedenti l’uscita. Ulteriori dettagli saranno dati in prossimità dell’evento stesso aggiornando questa descrizione sul sito. Consuetamente le uscite giornaliere del weekend vengono confermate o annullate il martedì precedente l’uscita tramite i nostri canali. Segui tutti gli aggiornamenti del CAI Reggio Calabria su Whatsapp https://chat.whatsapp.com/BhUezT56qj213l2MtwEbtf o sui social come CAI Reggo Calabria su Facebook https://www.facebook.com/caireggiocalabria e CAI Giovani Reggio Calabria su Instagram https://www.instagram.com/caigiovanireggiocalabria/
URL:https://organizzazione.cai.it/sez-reggio-calabria/evento/seduta-di-terapia-forestale/
CATEGORIES:T
ATTACH;FMTTYPE=image/jpeg:https://organizzazione.cai.it/sez-reggio-calabria/wp-content/uploads/sites/44/2024/06/DefaultFeatureImage_CAI.jpg
END:VEVENT
BEGIN:VEVENT
DTSTART;VALUE=DATE:20261004
DTEND;VALUE=DATE:20261005
DTSTAMP:20260421T224438
CREATED:20251119T115443Z
LAST-MODIFIED:20251119T130652Z
UID:2818-1791072000-1791158399@organizzazione.cai.it
SUMMARY:Cammino di San Pier Giorgio Frassati
DESCRIPTION:Evento da confermare nei giorni precedenti l’uscita. Ulteriori dettagli saranno dati in prossimità dell’evento stesso aggiornando questa descrizione sul sito. Consuetamente le uscite giornaliere del weekend vengono confermate o annullate il martedì precedente l’uscita tramite i nostri canali. Segui tutti gli aggiornamenti del CAI Reggio Calabria su Whatsapp https://chat.whatsapp.com/BhUezT56qj213l2MtwEbtf o sui social come CAI Reggo Calabria su Facebook https://www.facebook.com/caireggiocalabria e CAI Giovani Reggio Calabria su Instagram https://www.instagram.com/caigiovanireggiocalabria/
URL:https://organizzazione.cai.it/sez-reggio-calabria/evento/cammino-di-san-pier-giorgio-frassati/
CATEGORIES:T
ATTACH;FMTTYPE=image/jpeg:https://organizzazione.cai.it/sez-reggio-calabria/wp-content/uploads/sites/44/2024/06/DefaultFeatureImage_CAI.jpg
END:VEVENT
BEGIN:VEVENT
DTSTART;VALUE=DATE:20261017
DTEND;VALUE=DATE:20261018
DTSTAMP:20260421T224438
CREATED:20251119T115458Z
LAST-MODIFIED:20251119T130707Z
UID:2822-1792195200-1792281599@organizzazione.cai.it
SUMMARY:Memorial Elita | In collaborazione con associazioni reggine
DESCRIPTION:Evento da confermare nei giorni precedenti l’uscita. Ulteriori dettagli saranno dati in prossimità dell’evento stesso aggiornando questa descrizione sul sito. Consuetamente le uscite giornaliere del weekend vengono confermate o annullate il martedì precedente l’uscita tramite i nostri canali. Segui tutti gli aggiornamenti del CAI Reggio Calabria su Whatsapp https://chat.whatsapp.com/BhUezT56qj213l2MtwEbtf o sui social come CAI Reggo Calabria su Facebook https://www.facebook.com/caireggiocalabria e CAI Giovani Reggio Calabria su Instagram https://www.instagram.com/caigiovanireggiocalabria/
URL:https://organizzazione.cai.it/sez-reggio-calabria/evento/memorial-elita-in-collaborazione-con-associazioni-reggine/
CATEGORIES:T
ATTACH;FMTTYPE=image/jpeg:https://organizzazione.cai.it/sez-reggio-calabria/wp-content/uploads/sites/44/2024/06/DefaultFeatureImage_CAI.jpg
END:VEVENT
BEGIN:VEVENT
DTSTART;VALUE=DATE:20261024
DTEND;VALUE=DATE:20261025
DTSTAMP:20260421T224438
CREATED:20251119T115459Z
LAST-MODIFIED:20251119T130707Z
UID:2824-1792800000-1792886399@organizzazione.cai.it
SUMMARY:Zomaro selvaggio e la memoria di Spartaco
DESCRIPTION:Evento da confermare nei giorni precedenti l’uscita. Ulteriori dettagli saranno dati in prossimità dell’evento stesso aggiornando questa descrizione sul sito. Consuetamente le uscite giornaliere del weekend vengono confermate o annullate il martedì precedente l’uscita tramite i nostri canali. Segui tutti gli aggiornamenti del CAI Reggio Calabria su Whatsapp https://chat.whatsapp.com/BhUezT56qj213l2MtwEbtf o sui social come CAI Reggo Calabria su Facebook https://www.facebook.com/caireggiocalabria e CAI Giovani Reggio Calabria su Instagram https://www.instagram.com/caigiovanireggiocalabria/
URL:https://organizzazione.cai.it/sez-reggio-calabria/evento/zomaro-selvaggio-e-la-memoria-di-spartaco/
CATEGORIES:T
ATTACH;FMTTYPE=image/jpeg:https://organizzazione.cai.it/sez-reggio-calabria/wp-content/uploads/sites/44/2024/06/DefaultFeatureImage_CAI.jpg
END:VEVENT
END:VCALENDAR