BEGIN:VCALENDAR
VERSION:2.0
PRODID:-//Sezione di Reggio Calabria - ECPv6.10.3//NONSGML v1.0//EN
CALSCALE:GREGORIAN
METHOD:PUBLISH
X-ORIGINAL-URL:https://organizzazione.cai.it/sez-reggio-calabria
X-WR-CALDESC:Eventi per Sezione di Reggio Calabria
REFRESH-INTERVAL;VALUE=DURATION:PT1H
X-Robots-Tag:noindex
X-PUBLISHED-TTL:PT1H
BEGIN:VTIMEZONE
TZID:UTC
BEGIN:STANDARD
TZOFFSETFROM:+0000
TZOFFSETTO:+0000
TZNAME:UTC
DTSTART:20250101T000000
END:STANDARD
END:VTIMEZONE
BEGIN:VEVENT
DTSTART;VALUE=DATE:20251109
DTEND;VALUE=DATE:20251110
DTSTAMP:20260422T203255
CREATED:20251105T114801Z
LAST-MODIFIED:20251105T114801Z
UID:2199-1762646400-1762732799@organizzazione.cai.it
SUMMARY:Escursione | La Via degli Armeni
DESCRIPTION:La Via degli Armeni è un percorso ad anello che parte da Motticella e attraversa borghi antichi\, \nresti bizantini e paesaggi naturali dell’Aspromonte ionico. L’itinerario tocca la Rocca di \nSan Fantino\, la suggestiva Chiesa Armena\, il bosco di Rudìna\, i borghi di Ferruzzano Saccuti e \nBruzzano Vecchio\, per poi chiudersi ad anello tornando a Motticella. Un cammino che unisce natura\,\n storia e spiritualità in scenari di grande fascino.\n\nDettagli ✅\n🎯 Difficoltà: E\n📏 Distanza: 15km\n📈 Dislivello: 540m d+\, 540m d-\n⌚ Durata: 6h ca.\n\nOrganizzatori: Rokko Romeo e Massimo Di Lorenzo.\n\nGiovedì 6 novembre la presentazione in sezione dell'evento (vieni a trovarci in Via Sbarre Superiori 61/c a Reggio Calabria) 🧭\nUlteriori dettagli nella scheda tecnica📑
URL:https://organizzazione.cai.it/sez-reggio-calabria/evento/escursione-la-via-degli-armeni/
ATTACH;FMTTYPE=image/webp:https://organizzazione.cai.it/sez-reggio-calabria/wp-content/uploads/sites/44/2025/11/locandina-cai.webp
END:VEVENT
BEGIN:VEVENT
DTSTART;VALUE=DATE:20251116
DTEND;VALUE=DATE:20251117
DTSTAMP:20260422T203255
CREATED:20251111T125928Z
LAST-MODIFIED:20251113T104211Z
UID:2250-1763251200-1763337599@organizzazione.cai.it
SUMMARY:Escursione | I Santi Italo-Greci\, Vallata della Fiumara del Gallico
DESCRIPTION:🥾 Escursione | I Santi Italo-Greci\, Vallata della Fiumara del Gallico\n🗓 Domenica 16 Novembre \nIn attesa della conferenza del 2 dicembre dedicata ai Santi Italo-Greci\, viene proposta una nuova esplorazione nella vallata della Fiumara di Gallico\, tra il mare di Reggio Calabria e l’Aspromonte. Questo territorio\, ricco di memorie bizantine\, spiritualità e natura\, fu luogo di vita e preghiera per monaci e santi italo-greci\, testimoniato dall’Abbazia di Santa Domenica de Dromo e dalla Chiesa di Santa Filomena. Oggi il Parco della Mondialità ne custodisce il valore universale. Passeggiando tra resti e luoghi di culto\, i visitatori possono ancora percepire l’eco di quella tradizione e vivere un’esperienza di memoria e contemplazione. \nDettagli ✅\n🎯 Difficoltà: T\n📏 Distanza: 4 km\n📈 Dislivello: trascurabile\n⌚ Durata: 4h \nOrganizzatori: Antonino Falcomatà e Salvatore Musca. \nGiovedì 13 novembre la presentazione in sezione dell’evento (vieni a trovarci in Via Sbarre Superiori 61/c a Reggio Calabria) 🧭 \nUlteriori dettagli nella scheda tecnica 📑
URL:https://organizzazione.cai.it/sez-reggio-calabria/evento/escursione-i-santi-italo-greci-vallata-della-fiumara-del-gallico/
ATTACH;FMTTYPE=image/jpeg:https://organizzazione.cai.it/sez-reggio-calabria/wp-content/uploads/sites/44/2024/06/DefaultFeatureImage_CAI.jpg
END:VEVENT
BEGIN:VEVENT
DTSTART;TZID=UTC:20251121T100000
DTEND;TZID=UTC:20251121T130000
DTSTAMP:20260422T203255
CREATED:20251113T115339Z
LAST-MODIFIED:20251113T153751Z
UID:2507-1763719200-1763730000@organizzazione.cai.it
SUMMARY:Giornata Nazionale degli Alberi e messa a dimora di 4 esemplari
DESCRIPTION:🌳Evento | Giornata Nazionale degli Alberi e messa a dimora di 4 esemplari\n⌚Venerdì 21 Novembre ore 10.00\n📍Piazza John Lennon\, Reggio Calabria \nIl Club Alpino Italiano di Reggio Calabria Sezione Aspromonte\, in occasione della Giornata Nazionale degli Alberi\, metterà a dimora due esemplari di ulivo e due alberi di bergamotto presso la Piazza John Lennon. \nL’iniziativa\, che si avvarrà della collaborazione dei Comitati di Quartiere Viale Calabria-Via Palmi e Ferrovieri Pescatori\, e del coinvolgimento delle scuole del quartiere\, intende celebrare la ricorrenza con un gesto dal forte valore simbolico. \nLa scelta dell’ulivo\, infatti\, non risponde solo a un intento di sensibilità ambientale e di abbellimento del verde pubblico\, ma ambisce a rappresentare un messaggio di pace e di resilienza\, temi di profonda attualità e rilevanza per l’intera collettività \nLa scelta di mettere a dimora il bergamotto è un gesto identitario\, un’affermazione di appartenenza a una terra di forti contrasti. Un lembo di Calabria che\, nella stessa anima\, custodisce una ricchezza ambientale e culturale sconfinata\, ma anche le profonde ferite inferte da uno sfruttamento senza scrupoli. Piantare il suo “oro verde” significa prendersi cura di una bellezza ferita\, sfidando le sue contraddizioni.
URL:https://organizzazione.cai.it/sez-reggio-calabria/evento/giornata-nazionale-degli-alberi-e-piantumazione-di-4-esemplari/
ATTACH;FMTTYPE=image/webp:https://organizzazione.cai.it/sez-reggio-calabria/wp-content/uploads/sites/44/2025/11/giornata-degli-alberi.webp
END:VEVENT
BEGIN:VEVENT
DTSTART;VALUE=DATE:20251123
DTEND;VALUE=DATE:20251124
DTSTAMP:20260422T203255
CREATED:20251114T144047Z
LAST-MODIFIED:20251119T105818Z
UID:2522-1763856000-1763942399@organizzazione.cai.it
SUMMARY:🥾 Escursione | Anello della Diga del Menta con Alpinismo Giovanile
DESCRIPTION:🥾 Escursione | Anello della Diga del Menta con Alpinismo Giovanile\n🗓 Domenica 23 Novembre \nIl percorso ad anello si snoda lungo la strada di servizio della Diga del Menta per quasi 9 chilometri. Si tratta di un itinerario suggestivo e panoramico\, facile da affrontare e accessibile a chiunque\, senza particolari difficoltà. La Diga del Menta è uno dei luoghi più caratteristici e rilevanti dell’altopiano reggino. Costruita a oltre 1.400 metri di quota\, oggi rappresenta non solo una fondamentale riserva d’acqua per Reggio Calabria\, ma anche una destinazione di grande particolarità per gli escursionisti. \nDettagli ✅\n🎯 Difficoltà: T\n📏 Distanza: 8\,6 km\n📈 Dislivello: 150m d+\, 150m d-\n⌚ Durata: 4h \nOrganizzatori: Geanina Cozma\, Giuseppe Bruno\, Pasquale La Cava \nGiovedì 20 novembre la presentazione in sezione dell’evento (vieni a trovarci in Via Sbarre Superiori 61/c a Reggio Calabria) 🧭 \nUlteriori dettagli nella scheda tecnica📑
URL:https://organizzazione.cai.it/sez-reggio-calabria/evento/%f0%9f%a5%be-escursione-anello-della-diga-del-menta-con-alpinismo-giovanile/
ATTACH;FMTTYPE=image/webp:https://organizzazione.cai.it/sez-reggio-calabria/wp-content/uploads/sites/44/2025/11/anello-della-diga-del-menta.webp
END:VEVENT
BEGIN:VEVENT
DTSTART;TZID=UTC:20251125T210000
DTEND;TZID=UTC:20251125T223000
DTSTAMP:20260422T203255
CREATED:20251120T092226Z
LAST-MODIFIED:20251120T092226Z
UID:3009-1764104400-1764109800@organizzazione.cai.it
SUMMARY:Conferenza | Antonio Barca\, il Custode dell'Aspromonte
DESCRIPTION:🗓️ Martedì 25 novembre ore 21.00\n\n\n📌 Sezione CAI di Reggio \n\n\n \n\n\nLa chiacchierata con Antonio sarà un viaggio nel cuore dell’Aspromonte e nella storia personale di un uomo che ha saputo trasformare la sua vita diventando guida ambientale\, rifugista e custode appassionato della montagna\, incarnando il passaggio alla protezione e alla valorizzazione della natura.\n\n\n \n\n\nLa sua esperienza è ricca e intensa: tra i primi iscritti all’AIGAE\, guida ufficiale del Parco Nazionale dell’Aspromonte\, socio del Club Alpino Italiano e per trent’anni protagonista del Soccorso Alpino e Speleologico\, ha messo la conoscenza del territorio al servizio della sicurezza di tanti. \n\n\n \n\n\nOggi\, insieme alla moglie Therese\, ha scelto una vita scandita dal ritmo delle stagioni\, gestendo il rifugio “Il Biancospino”\, luogo di accoglienza e sostenibilità che è diventato punto di incontro per escursionisti\, ciclisti\, scuole e ricercatori.\n\n\n \n\n\nDurante l’incontro\, Antonio condividerà con noi aneddoti e riflessioni che raccontano la sua filosofia di “montanaro moderno”: un approccio che unisce tradizione ed etica ambientale\, dove la raccolta e l’agricoltura quotidiana diventano pratiche di sostenibilità. Non sarà soltanto una presentazione\, ma un invito a riflettere sull’evoluzione della coscienza ambientale\, sull’importanza di presidiare le aree interne e sulle opportunità di un turismo autentico e rispettoso\, capace di valorizzare comunità e territorio.\n\n\n \n\n\nTi aspettiamo! \n\n\nIngresso libero ✅
URL:https://organizzazione.cai.it/sez-reggio-calabria/evento/conferenza-antonio-barca-il-custode-dellaspromonte/
CATEGORIES:Conferenze
ATTACH;FMTTYPE=image/webp:https://organizzazione.cai.it/sez-reggio-calabria/wp-content/uploads/sites/44/2025/11/locandina-antonio.webp
END:VEVENT
BEGIN:VEVENT
DTSTART;VALUE=DATE:20251130
DTEND;VALUE=DATE:20251201
DTSTAMP:20260422T203255
CREATED:20251127T081010Z
LAST-MODIFIED:20251127T081010Z
UID:3075-1764460800-1764547199@organizzazione.cai.it
SUMMARY:Visite alla Cripta di San Fantino e alla Grotta di Sant’Elia Speleota a Melicuccà
DESCRIPTION:Andremo alla scoperta di alcune chicche della nostra terra tra archeologia e spiritualità. A Palmi visiteremo il Parco Archeologico dei Tauriani\, con panorami sul Tirreno\, e la Cripta di San Fantino\, il più antico luogo di culto cristiano della regione\, celebre per i suggestivi affreschi ortodossi. Dopo una pausa conviviale\, proseguiremo verso Melicuccà\, alla Grotta di Sant’Elia Speleota\, legata all’eremita basiliano venerato come “Sole d’Occidente”. La grotta\, trasformata in chiesa e meta di pellegrinaggi\, custodisce acqua ritenuta miracolosa e i resti di un monastero con fattoria rupestre. \nDettagli\nDifficoltà: T\nDistanza: trascurabile\nDislivello: trascurabile \nOrganizzatori: Antonino Falcomatà\, Massimo Di Lorenzo\, Salvatore Musca. \nGiovedì 27 novembre la presentazione in sezione dell’evento (vieni a trovarci in Via Sbarre Superiori 61/c a Reggio Calabria) \nUlteriori dettagli nella scheda tecnica
URL:https://organizzazione.cai.it/sez-reggio-calabria/evento/visite-alla-cripta-di-san-fantino-e-alla-grotta-di-santelia-speleota-a-melicucca/
CATEGORIES:T
ATTACH;FMTTYPE=image/jpeg:https://organizzazione.cai.it/sez-reggio-calabria/wp-content/uploads/sites/44/2024/06/DefaultFeatureImage_CAI.jpg
END:VEVENT
END:VCALENDAR