BEGIN:VCALENDAR
VERSION:2.0
PRODID:-//Sezione di Reggio Calabria - ECPv6.10.3//NONSGML v1.0//EN
CALSCALE:GREGORIAN
METHOD:PUBLISH
X-ORIGINAL-URL:https://organizzazione.cai.it/sez-reggio-calabria
X-WR-CALDESC:Eventi per Sezione di Reggio Calabria
REFRESH-INTERVAL;VALUE=DURATION:PT1H
X-Robots-Tag:noindex
X-PUBLISHED-TTL:PT1H
BEGIN:VTIMEZONE
TZID:UTC
BEGIN:STANDARD
TZOFFSETFROM:+0000
TZOFFSETTO:+0000
TZNAME:UTC
DTSTART:20250101T000000
END:STANDARD
END:VTIMEZONE
BEGIN:VEVENT
DTSTART;TZID=UTC:20251202T210000
DTEND;TZID=UTC:20251202T223000
DTSTAMP:20260422T082922
CREATED:20251128T082156Z
LAST-MODIFIED:20251128T082816Z
UID:3088-1764709200-1764714600@organizzazione.cai.it
SUMMARY:Conferenza | I Santi Italo-Greci con il Prof. Saverio Verduci
DESCRIPTION:Conferenza | I Santi Italo-Greci con il Prof. Saverio Verduci\n\n\n🗓️ Martedì 2 dicembre ore 21.00\n\n\n📌 Sezione CAI di Reggio \n\n\n \n\n\nL’incontro sarà un viaggio affascinante alla scoperta del mondo bizantino e dei santi italo-greci che hanno lasciato un’impronta profonda nell’area dello Stretto. Questi monaci\, attivi tra il VII e il XII secolo\, furono protagonisti di una stagione culturale e spirituale che ha segnato la Calabria meridionale e la Sicilia orientale.\n\n\n \n\n\nGrazie a loro il rito greco ha continuato a vivere nel Sud Italia\, resistendo per secoli e lasciando tracce che ancora oggi possiamo riconoscere.\n\n\nRiscoprire queste figure significa riportare alla luce un capitolo cruciale della nostra storia: un patrimonio che non solo arricchisce la memoria collettiva\, ma contribuisce a ridefinire l’identità culturale e religiosa del Mezzogiorno.\n\n\n \n\n\nTi aspettiamo! \n\n\nIngresso libero ✅
URL:https://organizzazione.cai.it/sez-reggio-calabria/evento/conferenza-i-santi-italo-greci-con-il-prof-saverio-verduci/
CATEGORIES:Conferenze
ATTACH;FMTTYPE=image/webp:https://organizzazione.cai.it/sez-reggio-calabria/wp-content/uploads/sites/44/2025/11/locandine-conferenze.webp
END:VEVENT
BEGIN:VEVENT
DTSTART;VALUE=DATE:20251207
DTEND;VALUE=DATE:20251208
DTSTAMP:20260422T082922
CREATED:20251202T110642Z
LAST-MODIFIED:20251202T110710Z
UID:3118-1765065600-1765151999@organizzazione.cai.it
SUMMARY:Escursione | Anello di Gambarie e dei suoi boschi incantati
DESCRIPTION:Nel cuore dell’Aspromonte si snoda l’Anello di Gambarie\, con inizio e fine al Rifugio Virdia: un percorso che unisce natura\, memoria e novità. L’itinerario attraverserà le località Fragolara e Tre Aie\, il Bosco delle Fate e degli Artisti\, la pista azzurra\, il Fantabosco\, il Bosco di Mezzo e Chanson d’Aspremont e Bosco dei Terreni Rossi.\n\n\n \n\n\nDettagli ✅\n\n\n🎯 Difficoltà: E\n\n\n📏 Distanza: 12 km\n\n\n📈 Dislivello: 400m d+\, 400m d-\n\n\n⌚ Durata: 6h\n\n\n \n\n\nOrganizzatori: Rocco Romeo e Massimo Di Lorenzo.\n\n\n \n\n\nGiovedì 4 dicembre la presentazione in sezione dell’evento (vieni a trovarci in Via Sbarre Superiori 61/c a Reggio Calabria) 🧭\n\n\nUlteriori dettagli nella scheda tecnica 📑
URL:https://organizzazione.cai.it/sez-reggio-calabria/evento/escursione-anello-di-gambarie-e-dei-suoi-boschi-incantati/
CATEGORIES:E
ATTACH;FMTTYPE=image/webp:https://organizzazione.cai.it/sez-reggio-calabria/wp-content/uploads/sites/44/2025/12/locandina-cai.webp
END:VEVENT
BEGIN:VEVENT
DTSTART;VALUE=DATE:20251214
DTEND;VALUE=DATE:20251215
DTSTAMP:20260422T082922
CREATED:20251210T160000Z
LAST-MODIFIED:20251210T160000Z
UID:3153-1765670400-1765756799@organizzazione.cai.it
SUMMARY:Escursione | Anello di Peracampi
DESCRIPTION:Il pranzo sociale del CAI rappresenta da sempre un momento prezioso per consolidare i legami tra i soci e rafforzare il senso di appartenenza alla nostra grande associazione. Tuttavia\, la nostra natura di escursionisti ci spinge a cercare sempre il contatto con l’ambiente: come da tradizione\, anche quest’anno abbiamo organizzato una breve camminata nei pressi del luogo del ritrovo conviviale. \nPer l’occasione\, abbiamo scelto un percorso facile e alla portata di tutti\, trasformando l’evento in un vero e proprio Open Day aperto anche ai non soci. \nSarà un’escursione adatta a tutti\, classificata turistica\, con un itinerario ad anello ai Campi di Bova. I saliscendi che percorreremo non saranno impegnativi\, ma non per questo da sottovalutare… A domenica! 🥾 \nDettagli ✅\n🎯 Difficoltà: E\n📏 Distanza: 8 km\n📈 Dislivello: 260m d+\, 260m d-\n⌚ Durata: 3h \nOrganizzatori: Pietro Garofalo\, Giandomenico Posillipo\, Geanina Cozma. \nGiovedì 11 dicembre la presentazione in sezione dell’evento (vieni a trovarci in Via Sbarre Superiori 61/c a Reggio Calabria) 🧭 \nUlteriori dettagli nella scheda tecnica 📑
URL:https://organizzazione.cai.it/sez-reggio-calabria/evento/escursione-anello-di-peracampi/
CATEGORIES:T
ATTACH;FMTTYPE=image/jpeg:https://organizzazione.cai.it/sez-reggio-calabria/wp-content/uploads/sites/44/2024/06/DefaultFeatureImage_CAI.jpg
END:VEVENT
BEGIN:VEVENT
DTSTART;TZID=UTC:20251214T123000
DTEND;TZID=UTC:20251214T170000
DTSTAMP:20260422T082922
CREATED:20251126T121207Z
LAST-MODIFIED:20251126T123903Z
UID:3059-1765715400-1765731600@organizzazione.cai.it
SUMMARY:Pranzo Sociale
DESCRIPTION:Cari Soci\, desidero scusarmi personalmente con voi per la situazione che si è creata e che mi accingo di seguito a spiegarvi.\nLa risposta all’idea del pranzo sociale al rifugio è stata straordinaria\, addirittura superiore alle nostre più rosee aspettative. Abbiamo già superato le 100 prenotazioni\, con una previsione di raggiungerne circa 150.\nPurtroppo\, dobbiamo considerare che la capienza del rifugio non è in grado di accogliere un numero così elevato di persone\, avendo un limite di sicurezza di circa 70/80 ospiti. Inoltre\, non riterremmo corretto dover escludere alcuni di voi per mancanza di posti.\nPer questo motivo\, abbiamo deciso di organizzare questo importante momento conviviale in una location alternativa. Ci siamo posti due condizioni essenziali:\n• una disponibilità di almeno 150 posti;\n• un costo a persona non superiore ai 30 euro.\nTra le varie soluzioni valutate\, confrontando diversi preventivi\, l’opzione che ci è sembrata più adatta alle nostre esigenze è risultata essere il Kalos Jero (Via Campo\, 5\, 89033 Bova RC)\nTutti i partecipanti entro giovedì\, o mettendosi in contatto con Giuditta o Pietro dovranno versare la quota di € 30\,00\nChi ha già versato la quota di 15 euro è pregato di integrarla versando € 15\,00 entro lo stesso termine.\nVi anticipo che la mattina del 14 faremo una semplice escursione turistica nei pressi di Bova (in seguito avrete i dettagli) per poi incontrarci verso 12:30 al ristorante\nVi aspetto numerosi domenica 14.\nGianni Posillipo
URL:https://organizzazione.cai.it/sez-reggio-calabria/evento/pranzo-sociale-2/
ATTACH;FMTTYPE=image/jpeg:https://organizzazione.cai.it/sez-reggio-calabria/wp-content/uploads/sites/44/2024/06/DefaultFeatureImage_CAI.jpg
END:VEVENT
END:VCALENDAR