BEGIN:VCALENDAR
VERSION:2.0
PRODID:-//Sezione di Reggio Calabria - ECPv6.10.3//NONSGML v1.0//EN
CALSCALE:GREGORIAN
METHOD:PUBLISH
X-ORIGINAL-URL:https://organizzazione.cai.it/sez-reggio-calabria
X-WR-CALDESC:Eventi per Sezione di Reggio Calabria
REFRESH-INTERVAL;VALUE=DURATION:PT1H
X-Robots-Tag:noindex
X-PUBLISHED-TTL:PT1H
BEGIN:VTIMEZONE
TZID:UTC
BEGIN:STANDARD
TZOFFSETFROM:+0000
TZOFFSETTO:+0000
TZNAME:UTC
DTSTART:20260101T000000
END:STANDARD
END:VTIMEZONE
BEGIN:VEVENT
DTSTART;VALUE=DATE:20260131
DTEND;VALUE=DATE:20260202
DTSTAMP:20260422T014835
CREATED:20251119T114942Z
LAST-MODIFIED:20260127T132713Z
UID:2743-1769817600-1769990399@organizzazione.cai.it
SUMMARY:Weekend sulla neve\, Intersezionale con CAI Catania | “I giorni della Merla: l’inizio della fine dell’inverno”
DESCRIPTION:Un fine settimana immerso negli scenari innevati del Parco Nazionale dell’Aspromonte\, condiviso con i soci del CAI Catania.\n\n\nIl sabato sarà dedicato alla salita più impegnativa: una lunga ciaspolata che da Carmelia condurrà fino alla vetta del Monte Montalto\, la cima più alta dell’Aspromonte.\n\n\nLa domenica\, invece\, proporrà un anello più dolce e panoramico nei boschi intorno a Gambarie\, con affacci sullo Stretto nelle giornate limpide.\n\n\n \n\n\nDettagli – Sabato 31 gennaio ✅\n\n\n🎯 Difficoltà: EAI (difficile)\n\n\n📏 Distanza: 14 km\n\n\n📈 Dislivello: 850 m d+\, 850 m d-\n\n\n⌚ Durata: 8 ore ca.\n\n\n \n\n\nDettagli – Domenica 1 febbraio ✅\n\n\n🎯 Difficoltà: EAI (poco difficile)\n\n\n📏 Distanza: 7 km\n\n\n📈 Dislivello: 450 m d+\, 450 m d-\n\n\n⌚ Durata: 4/5 ore ca.\n\n\n \n\n\nOrganizzatori: Pino Perrone – AE/EAI Geanina Cozma – Gianni Posillipo\n\n\n \n\n\nGiovedì 29 gennaio presentazione dell’evento in sezione (vieni a trovarci in Via Sbarre Superiori 61/c\, Reggio Calabria) 🧭\n\n\n \n\n\nUlteriori dettagli nella scheda tecnica nel link al primo commento 📑
URL:https://organizzazione.cai.it/sez-reggio-calabria/evento/ciaspolata-gambarie-e-dintorni-intersezionale-con-cai-catania/
CATEGORIES:EAI
ATTACH;FMTTYPE=image/jpeg:https://organizzazione.cai.it/sez-reggio-calabria/wp-content/uploads/sites/44/2024/06/DefaultFeatureImage_CAI.jpg
END:VEVENT
BEGIN:VEVENT
DTSTART;VALUE=DATE:20260201
DTEND;VALUE=DATE:20260202
DTSTAMP:20260422T014835
CREATED:20251119T114942Z
LAST-MODIFIED:20260128T083111Z
UID:2744-1769904000-1769990399@organizzazione.cai.it
SUMMARY:Giro di San Pantaleone passando da Rocca di Varva
DESCRIPTION:Un anello breve e accessibile che unirà natura\, storia locale e tutela ambientale.\n\n\nLa giornata si aprirà con la visita al Pantano di Saline Joniche\, accompagnati dai volontari WWF per comprendere il ruolo fondamentale delle zone umide nei flussi migratori.\n\n\nSuccessivamente da San Pantaleone si percorreranno il Sentiero del Benessere e un tratto del Sentiero dell’Inglese\, passando sotto la suggestiva Rocca di Varva e raggiungendo un pianoro panoramico dove sarà prevista la sosta pranzo\, prima di rientrare al punto di partenza.\n\n\n \n\n\nDettagli ✅\n\n\n🎯 Difficoltà: T\n\n\n📏 Distanza: 6 km\n\n\n📈 Dislivello: 190 m d+\, 190 m d-\n\n\n⌚ Durata: 3 ore ca. (più trasferimento al Pantano)\n\n\n \n\n\nOrganizzatori: Rokko Romeo\, Francesco Polimeni e P. Latella (In Collaborazione con la FIE).\n\n\n \n\n\nGiovedì 29 gennaio presentazione dell’escursione in sezione (vieni a trovarci in Via Sbarre Superiori 61/c\, Reggio Calabria) 🧭\n\n\n \n\n\nUlteriori dettagli nella scheda tecnica📑
URL:https://organizzazione.cai.it/sez-reggio-calabria/evento/giro-di-san-pantaleone-passando-da-rocca-di-varva/
CATEGORIES:T
ATTACH;FMTTYPE=image/webp:https://organizzazione.cai.it/sez-reggio-calabria/wp-content/uploads/sites/44/2025/11/locandine-cai-varva.webp
END:VEVENT
BEGIN:VEVENT
DTSTART;VALUE=DATE:20260208
DTEND;VALUE=DATE:20260209
DTSTAMP:20260422T014835
CREATED:20251119T114942Z
LAST-MODIFIED:20251119T130023Z
UID:2745-1770508800-1770595199@organizzazione.cai.it
SUMMARY:Alpinistica sul Pollino | Intersezionale con CAI Castrovillari
DESCRIPTION:Evento da confermare nei giorni precedenti l’uscita. Ulteriori dettagli saranno dati in prossimità dell’evento stesso aggiornando questa descrizione sul sito. Consuetamente le uscite giornaliere del weekend vengono confermate o annullate il martedì precedente l’uscita tramite i nostri canali. Segui tutti gli aggiornamenti del CAI Reggio Calabria su Whatsapp https://chat.whatsapp.com/BhUezT56qj213l2MtwEbtf o sui social come CAI Reggo Calabria su Facebook https://www.facebook.com/caireggiocalabria e CAI Giovani Reggio Calabria su Instagram https://www.instagram.com/caigiovanireggiocalabria/
URL:https://organizzazione.cai.it/sez-reggio-calabria/evento/alpinistica-sul-pollino-intersezionale-con-cai-castrovillari-2/
CATEGORIES:Alpinismo
ATTACH;FMTTYPE=image/jpeg:https://organizzazione.cai.it/sez-reggio-calabria/wp-content/uploads/sites/44/2024/06/DefaultFeatureImage_CAI.jpg
END:VEVENT
BEGIN:VEVENT
DTSTART;VALUE=DATE:20260208
DTEND;VALUE=DATE:20260209
DTSTAMP:20260422T014835
CREATED:20251119T114942Z
LAST-MODIFIED:20260203T163303Z
UID:2746-1770508800-1770595199@organizzazione.cai.it
SUMMARY:Pilone - Monte Scrisi
DESCRIPTION:Un percorso panoramico che regala viste spettacolari sullo Stretto di Messina\, sulla Costa Viola e sulle Isole Eolie. Dal Pilone si sale lungo un tracciato misto asfalto–sterrato attraversando una sughereta segnata dagli incendi degli ultimi anni. Una deviazione conduce verso Rocca ill’Urma\, balcone naturale sullo Stretto\, prima di proseguire verso la cima di Monte Scrisi\, dove è prevista la sosta pranzo. Rientro sullo stesso itinerario.\n\n\n \n\n\nDettagli ✅\n\n\n🎯 Difficoltà: E\n\n\n📏 Distanza: 12 km\n\n\n📈 Dislivello: 310 m d+\, 310 m d-\n\n\n⌚ Durata: 6 ore\n\n\n \n\n\nOrganizzatori: Ambrogio Braga – Giuseppe Crisalli – Geanina Cozma\n\n\n \n\n\nGiovedì 5 febbraio presentazione dell’escursione in sezione (vieni a trovarci in Via Sbarre Superiori 61/c\, Reggio Calabria) 🧭\n\n\n \n\n\nUlteriori dettagli nella scheda tecnica📑
URL:https://organizzazione.cai.it/sez-reggio-calabria/evento/pilone-monte-scrisi/
CATEGORIES:E
ATTACH;FMTTYPE=image/webp:https://organizzazione.cai.it/sez-reggio-calabria/wp-content/uploads/sites/44/2025/11/locandine-cai-4.webp
END:VEVENT
BEGIN:VEVENT
DTSTART;VALUE=DATE:20260214
DTEND;VALUE=DATE:20260216
DTSTAMP:20260422T014835
CREATED:20251119T114950Z
LAST-MODIFIED:20260210T133518Z
UID:2752-1771027200-1771199999@organizzazione.cai.it
SUMMARY:Escursioni sulla neve\, Intersezionali con CAI Messina | Tramonto a Monte Nardello e Cascate Tre Limiti
DESCRIPTION:Escursioni sulla neve\, Intersezionali con CAI Messina | Tramonto a Monte Nardello e Cascate Tre Limiti \n\n\n🗓 Sabato 14 e Domenica 15 febbraio 2026\n\n\n \n\n\nUn weekend sulla neve insieme ai soci del CAI Messina\, con pernotto al Rifugio Virdia e due escursioni con le ciaspole tra alcuni degli scenari più suggestivi dell’Aspromonte. Il sabato si sale verso Monte Nardello per assistere al tramonto sullo Stretto\, mentre la domenica si raggiungono le spettacolari Cascate Tre Limiti\, impreziosite in inverno da neve\, ghiaccio e giochi di luce che rendono l’ambiente quasi fiabesco.\n\n\n \n\n\nDettagli – Sabato 14 febbraio (Monte Nardello) ✅\n\n\n🎯 Difficoltà: EAI – media\n\n\n📏 Distanza: 7 km\n\n\n📈 Dislivello: 350 m d+\, 350 m d-\n\n\n⌚ Durata: 5 ore\n\n\n \n\n\nDettagli – Domenica 15 febbraio (Cascate Tre Limiti) ✅\n\n\n🎯 Difficoltà: EAI – media/alta\n\n\n📏 Distanza: 9 km\n\n\n📈 Dislivello: 370 m d+\, 370 m d-\n\n\n⌚ Durata: 7 ore\n\n\n \n\n\nOrganizzatori: Pino Perrone – AE/EAI Geanina Cozma – Giovanni Nicolò\n\n\n \n\n\nGiovedì 12 febbraio la presentazione delle uscite in sezione (vieni a trovarci in Via Sbarre Superiori 61/c\, Reggio Calabria) 🧭\n\n\n \n\n\nUlteriori dettagli nella scheda tecnica📑
URL:https://organizzazione.cai.it/sez-reggio-calabria/evento/ciaspolata-gambarie-tre-limiti-intersezionale-con-cai-messina/
CATEGORIES:EAI
ATTACH;FMTTYPE=image/jpeg:https://organizzazione.cai.it/sez-reggio-calabria/wp-content/uploads/sites/44/2024/06/DefaultFeatureImage_CAI.jpg
END:VEVENT
BEGIN:VEVENT
DTSTART;VALUE=DATE:20260215
DTEND;VALUE=DATE:20260216
DTSTAMP:20260422T014835
CREATED:20251119T114950Z
LAST-MODIFIED:20260210T130433Z
UID:2753-1771113600-1771199999@organizzazione.cai.it
SUMMARY:Il Sentiero del Cuore & Carnevale Sanpietrino
DESCRIPTION:Un percorso breve ma ricchissimo di fascino naturalistico e culturale. Il Sentiero di San Fantino (San Piero Patti\, ME) costeggia il fiume Timeto lungo l’antica mulattiera che collegava Spaditta e Fiumara: tra boschetti di roverelle\, noccioleti\, muretti a secco e vecchi mulini\, si cammina immersi nel suono dell’acqua e nei profumi del sottobosco. Affacci suggestivi sui “gurni” e testimonianze della vita agro‑pastorale accompagnano il cammino fino alla fontana di San Fantino. Dopo l’escursione\, pranzo in paese e visita al borgo per assistere alla sfilata dei carri allegorici del Carnevale Sanpietrino.\n\n\n \n\n\nDettagli ✅\n\n\n🎯 Difficoltà: T / E\n\n\n📏 Distanza: 5 km\n\n\n📈 Dislivello: 220 m d+\, 220 m d-\n\n\n⌚ Durata: 2 ore\n\n\n \n\n\nOrganizzatrici: AE Francesca Bisbano – ANE Liliana Chillè\n\n\n \n\n\nGiovedì 12 febbraio presentazione dell’escursione in sezione (vieni a trovarci in Via Sbarre Superiori 61/c\, Reggio Calabria) 🧭\n\n\n \n\n\nUlteriori dettagli nella scheda tecnica 📑
URL:https://organizzazione.cai.it/sez-reggio-calabria/evento/il-sentiero-del-cuore/
CATEGORIES:T
ATTACH;FMTTYPE=image/jpeg:https://organizzazione.cai.it/sez-reggio-calabria/wp-content/uploads/sites/44/2024/06/DefaultFeatureImage_CAI.jpg
END:VEVENT
BEGIN:VEVENT
DTSTART;VALUE=DATE:20260221
DTEND;VALUE=DATE:20260222
DTSTAMP:20260422T014835
CREATED:20251119T114950Z
LAST-MODIFIED:20260216T074726Z
UID:2755-1771632000-1771718399@organizzazione.cai.it
SUMMARY:Dimostrativa di Torrentismo in collaborazione con il CAI di Messina | Pietrapennata (RC)
DESCRIPTION:Una giornata dedicata al torrentismo\, pensata per scoprire da vicino questa disciplina affascinante: materiali\, tecniche di base\, manovre fondamentali e prove pratiche\, il tutto nella splendida cornice della palestra di roccia di Pietrapennata (Palizzi\, RC).\n\n\nL’attività si svolgerà con la partecipazione della squadra Asprocanyon della nostra sezione e della sezione CAI di Messina\, sotto la guida dell’istruttore Mario Laudani.\n\n\n\nDurante la dimostrativa verranno affrontati:\n\n\n• introduzione al torrentismo\n\n\n• utilizzo dei materiali tecnici\n\n\n• tecniche di calata\n\n\n• esercitazioni pratiche (altezza massima 5 m)\n\n\n\nOrganizzatori: Paolo Spicuzza e Mario Laudani.\n\n\n\nGiovedì 12 febbraio presentazione dell’escursione in sezione (vieni a trovarci in Via Sbarre Superiori 61/c\, Reggio Calabria) 🧭\n\n\nUlteriori dettagli nella scheda 📑
URL:https://organizzazione.cai.it/sez-reggio-calabria/evento/stage-torrentismo/
CATEGORIES:Torrentismo
ATTACH;FMTTYPE=image/webp:https://organizzazione.cai.it/sez-reggio-calabria/wp-content/uploads/sites/44/2025/11/locandine-cai-5.webp
END:VEVENT
BEGIN:VEVENT
DTSTART;VALUE=DATE:20260222
DTEND;VALUE=DATE:20260223
DTSTAMP:20260422T014835
CREATED:20251119T114950Z
LAST-MODIFIED:20251119T130038Z
UID:2754-1771718400-1771804799@organizzazione.cai.it
SUMMARY:Ciaspolata Carmelia Montalto
DESCRIPTION:Evento da confermare nei giorni precedenti l’uscita. Ulteriori dettagli saranno dati in prossimità dell’evento stesso aggiornando questa descrizione sul sito. Consuetamente le uscite giornaliere del weekend vengono confermate o annullate il martedì precedente l’uscita tramite i nostri canali. Segui tutti gli aggiornamenti del CAI Reggio Calabria su Whatsapp https://chat.whatsapp.com/BhUezT56qj213l2MtwEbtf o sui social come CAI Reggo Calabria su Facebook https://www.facebook.com/caireggiocalabria e CAI Giovani Reggio Calabria su Instagram https://www.instagram.com/caigiovanireggiocalabria/
URL:https://organizzazione.cai.it/sez-reggio-calabria/evento/ciaspolata-carmelia-montalto/
CATEGORIES:EAI
ATTACH;FMTTYPE=image/jpeg:https://organizzazione.cai.it/sez-reggio-calabria/wp-content/uploads/sites/44/2024/06/DefaultFeatureImage_CAI.jpg
END:VEVENT
END:VCALENDAR