BEGIN:VCALENDAR
VERSION:2.0
PRODID:-//Sezione di ULE Genova - ECPv6.10.3//NONSGML v1.0//EN
CALSCALE:GREGORIAN
METHOD:PUBLISH
X-WR-CALNAME:Sezione di ULE Genova
X-ORIGINAL-URL:https://organizzazione.cai.it/sez-ule-genova
X-WR-CALDESC:Eventi per Sezione di ULE Genova
REFRESH-INTERVAL;VALUE=DURATION:PT1H
X-Robots-Tag:noindex
X-PUBLISHED-TTL:PT1H
BEGIN:VTIMEZONE
TZID:UTC
BEGIN:STANDARD
TZOFFSETFROM:+0000
TZOFFSETTO:+0000
TZNAME:UTC
DTSTART:20260101T000000
END:STANDARD
END:VTIMEZONE
BEGIN:VEVENT
DTSTART;TZID=UTC:20260530T043000
DTEND;TZID=UTC:20260530T203000
DTSTAMP:20260420T174555
CREATED:20260201T212110Z
LAST-MODIFIED:20260201T212748Z
UID:543-1780115400-1780173000@organizzazione.cai.it
SUMMARY:Viso Mozzo Mt.3019 Canale dei Campanili
DESCRIPTION:DATA: SABATO 30 MAGGIO 2026\nMETA : VISO MOZZO MT.3019 CANALE DEI CAMPANILI\nPROGRAMMA: RITROVO ORE 4.30 DALLA\nMOTORIZZAZIONE PRIMA DEL CASELLO DI GE-OVEST\nDISLIVELLO: MT. 1300\nDIFFICOLTA’: PD\nMATERIALE:\nCASCO\,CORDA\,IMBRACO\,MOSCHETTONI\,CORDINI\,PICOZZA\,RAMPONI \nRESPONSABILI:PENSIERO MIRKO Tel.3285665704 \nNOTE Da Pian della Regina si sale lungo le piste fino alla cima del Ghincia Pastour (2469 m).\nDa qui si scende su una cresta erbosa che porta al grande conoide dei canali del versante nord del\nViso Mozzo. Il canale dei Campanili è la prosecuzione naturale del cono: dopo una breve strettoia\nsi divide in due rami.In base alle condizioni si decidera’ quale percorrere. Con qualche breve\npassaggio roccioso finale spesso sgombro da neve grazie all’esposizione sud\,si raggiunge la\nvetta.La discesa avviene lungo la via normale passando dal Colle dei Viso. \nACCESSO: \nautostrada A10 Genova–Savona. \nA Savona imbocca l’A6\nTorino–Savona in direzione Torino. \nUscita Marene o Savigliano/Fossano. \nProsegui per Costigliole Saluzzo → Pian Salza → Crissolo seguendo la SP26 in Valle Po. \nDa Crissolo continua per pochi chilometri fino al parcheggio di Pian della Regina.
URL:https://organizzazione.cai.it/sez-ule-genova/evento/viso-mozzo-mt-3019-canale-dei-campanili/
CATEGORIES:Alpinismo
ATTACH;FMTTYPE=image/webp:https://organizzazione.cai.it/sez-ule-genova/wp-content/uploads/sites/171/2026/01/gruppoi-alpinisti-i-picchi.webp
END:VEVENT
END:VCALENDAR