BEGIN:VCALENDAR
VERSION:2.0
PRODID:-//Sezione di ULE Genova - ECPv6.10.3//NONSGML v1.0//EN
CALSCALE:GREGORIAN
METHOD:PUBLISH
X-ORIGINAL-URL:https://organizzazione.cai.it/sez-ule-genova
X-WR-CALDESC:Eventi per Sezione di ULE Genova
REFRESH-INTERVAL;VALUE=DURATION:PT1H
X-Robots-Tag:noindex
X-PUBLISHED-TTL:PT1H
BEGIN:VTIMEZONE
TZID:UTC
BEGIN:STANDARD
TZOFFSETFROM:+0000
TZOFFSETTO:+0000
TZNAME:UTC
DTSTART:20260101T000000
END:STANDARD
END:VTIMEZONE
BEGIN:VEVENT
DTSTART;TZID=UTC:20260307T080000
DTEND;TZID=UTC:20260307T170000
DTSTAMP:20260420T211006
CREATED:20260201T155640Z
LAST-MODIFIED:20260210T224803Z
UID:524-1772870400-1772902800@organizzazione.cai.it
SUMMARY:Corso CE1 - Campo scuola sessione 1
DESCRIPTION:Corso CE1 – Campo scuola sessione 1 \nLocalità Righi – Genova
URL:https://organizzazione.cai.it/sez-ule-genova/evento/corso-ce1-campo-scuola-sessione-1/
LOCATION:Genova Righi\, via Peralto\, Genova\, Italy
CATEGORIES:Cicloescursionismo,Scuola Cicloescursionismo
ATTACH;FMTTYPE=image/webp:https://organizzazione.cai.it/sez-ule-genova/wp-content/uploads/sites/171/2026/01/scuola-escursionismo.webp
END:VEVENT
BEGIN:VEVENT
DTSTART;TZID=UTC:20260321T080000
DTEND;TZID=UTC:20260321T170000
DTSTAMP:20260420T211006
CREATED:20260201T155714Z
LAST-MODIFIED:20260318T035815Z
UID:526-1774080000-1774112400@organizzazione.cai.it
SUMMARY:Corso CE1 - Campo scuola sessione 2
DESCRIPTION:Corso CE1 – Campo scuola sessione 2 \nLocalità Righi – Genova
URL:https://organizzazione.cai.it/sez-ule-genova/evento/corso-ce1-campo-scuola-sessione-2/
LOCATION:Genova Righi\, via Peralto\, Genova\, Italy
CATEGORIES:Cicloescursionismo,Scuola Cicloescursionismo
ATTACH;FMTTYPE=image/webp:https://organizzazione.cai.it/sez-ule-genova/wp-content/uploads/sites/171/2026/01/scuola-escursionismo.webp
END:VEVENT
BEGIN:VEVENT
DTSTART;TZID=UTC:20260328T080000
DTEND;TZID=UTC:20260328T170000
DTSTAMP:20260420T211006
CREATED:20260201T155758Z
LAST-MODIFIED:20260318T035954Z
UID:528-1774684800-1774717200@organizzazione.cai.it
SUMMARY:Corso CE1 - Campo scuola sessione 3
DESCRIPTION:Corso CE1 – Campo scuola sessione 3
URL:https://organizzazione.cai.it/sez-ule-genova/evento/corso-ce1-campo-scuola-sessione-3/
LOCATION:Genova Righi\, via Peralto\, Genova\, Italy
CATEGORIES:Cicloescursionismo,Scuola Cicloescursionismo
ATTACH;FMTTYPE=image/webp:https://organizzazione.cai.it/sez-ule-genova/wp-content/uploads/sites/171/2026/01/scuola-escursionismo.webp
END:VEVENT
END:VCALENDAR