BEGIN:VCALENDAR
VERSION:2.0
PRODID:-//Sezione di ULE Genova - ECPv6.10.3//NONSGML v1.0//EN
CALSCALE:GREGORIAN
METHOD:PUBLISH
X-ORIGINAL-URL:https://organizzazione.cai.it/sez-ule-genova
X-WR-CALDESC:Eventi per Sezione di ULE Genova
REFRESH-INTERVAL;VALUE=DURATION:PT1H
X-Robots-Tag:noindex
X-PUBLISHED-TTL:PT1H
BEGIN:VTIMEZONE
TZID:UTC
BEGIN:STANDARD
TZOFFSETFROM:+0000
TZOFFSETTO:+0000
TZNAME:UTC
DTSTART:20260101T000000
END:STANDARD
END:VTIMEZONE
BEGIN:VEVENT
DTSTART;TZID=UTC:20260228T090000
DTEND;TZID=UTC:20260228T170000
DTSTAMP:20260420T225459
CREATED:20260201T154946Z
LAST-MODIFIED:20260210T224720Z
UID:518-1772269200-1772298000@organizzazione.cai.it
SUMMARY:Corso CE1 - Lezione 3 - Workshop di meccanica
DESCRIPTION:SOLO per ISCRITI CORSO CE1 \nMeccanica teorica: modulo da 4 ore \nControlli di sicurezza\, regolazioni di base\, montaggio e smontaggio delle ruote\, alla regolazione di cambio e freni e alle principali riparazioni di base. \nPratica e teoria in modalità workshop interattivo con 4 postazioni e relativi cavalletti \nSede distaccata CAI ULE Molassana \n  \nhttps://maps.app.goo.gl/wtZqK5hFwEWZ62wR8
URL:https://organizzazione.cai.it/sez-ule-genova/evento/corso-ce1-lezione-3-workshop-di-meccanica/
LOCATION:Sede CAI ULE – Molassana\, Giardini Maurizio Orengo\, Genova\, 16138\, Italy
CATEGORIES:Cicloescursionismo,Scuola Cicloescursionismo
ATTACH;FMTTYPE=image/webp:https://organizzazione.cai.it/sez-ule-genova/wp-content/uploads/sites/171/2026/01/img_8684.webp
END:VEVENT
END:VCALENDAR